BEGIN:VCALENDAR
VERSION:2.0
PRODID:-//Kath-Luebben.de - ECPv6.15.14//NONSGML v1.0//EN
CALSCALE:GREGORIAN
METHOD:PUBLISH
X-WR-CALNAME:Kath-Luebben.de
X-ORIGINAL-URL:https://kath-luebben.de
X-WR-CALDESC:Veranstaltungen für Kath-Luebben.de
REFRESH-INTERVAL;VALUE=DURATION:PT1H
X-Robots-Tag:noindex
X-PUBLISHED-TTL:PT1H
BEGIN:VTIMEZONE
TZID:Europe/Helsinki
BEGIN:DAYLIGHT
TZOFFSETFROM:+0200
TZOFFSETTO:+0300
TZNAME:EEST
DTSTART:20240331T010000
END:DAYLIGHT
BEGIN:STANDARD
TZOFFSETFROM:+0300
TZOFFSETTO:+0200
TZNAME:EET
DTSTART:20241027T010000
END:STANDARD
BEGIN:DAYLIGHT
TZOFFSETFROM:+0200
TZOFFSETTO:+0300
TZNAME:EEST
DTSTART:20250330T010000
END:DAYLIGHT
BEGIN:STANDARD
TZOFFSETFROM:+0300
TZOFFSETTO:+0200
TZNAME:EET
DTSTART:20251026T010000
END:STANDARD
BEGIN:DAYLIGHT
TZOFFSETFROM:+0200
TZOFFSETTO:+0300
TZNAME:EEST
DTSTART:20260329T010000
END:DAYLIGHT
BEGIN:STANDARD
TZOFFSETFROM:+0300
TZOFFSETTO:+0200
TZNAME:EET
DTSTART:20261025T010000
END:STANDARD
END:VTIMEZONE
BEGIN:VEVENT
DTSTART;TZID=Europe/Helsinki:20250701T143000
DTEND;TZID=Europe/Helsinki:20250701T160000
DTSTAMP:20260419T160835
CREATED:20250626T172551Z
LAST-MODIFIED:20250626T172551Z
UID:4860-1751380200-1751385600@kath-luebben.de
SUMMARY:Religionsunterricht Klasse 3-4
DESCRIPTION:Der Religionsunterricht der Gruppen Klasse 1-2 und Klasse 3-4 finden im Wechsel statt.
URL:https://kath-luebben.de/veranstaltungen/religionsunterricht-klasse-3-4-9
LOCATION:St. Trinitas Lübben\, Am kleinen Hain 28\, Lübben (Spreewald)\, Brandenburg\, 15907\, Deutschland
CATEGORIES:Religionsunterricht,Religionsunterricht Klasse 2-4 (Sakramentengruppe),St. Trinitas Lübben
END:VEVENT
BEGIN:VEVENT
DTSTART;TZID=Europe/Helsinki:20250701T190000
DTEND;TZID=Europe/Helsinki:20250701T213000
DTSTAMP:20260419T160835
CREATED:20250626T172634Z
LAST-MODIFIED:20250626T172634Z
UID:4862-1751396400-1751405400@kath-luebben.de
SUMMARY:Judith-Gruppe (Frauentreff)
DESCRIPTION:
URL:https://kath-luebben.de/veranstaltungen/judith-gruppe-frauentreff-14
LOCATION:Brandenburg
CATEGORIES:Frauentreff,St. Trinitas Lübben
END:VEVENT
BEGIN:VEVENT
DTSTART;TZID=Europe/Helsinki:20250702T083000
DTEND;TZID=Europe/Helsinki:20250702T090000
DTSTAMP:20260419T160835
CREATED:20250626T172021Z
LAST-MODIFIED:20250626T172021Z
UID:4842-1751445000-1751446800@kath-luebben.de
SUMMARY:Rosenkranz  in der Pfarrkirche
DESCRIPTION:
URL:https://kath-luebben.de/veranstaltungen/rosenkranz-in-der-pfarrkirche-59
LOCATION:St. Trinitas Lübben\, Am kleinen Hain 28\, Lübben (Spreewald)\, Brandenburg\, 15907\, Deutschland
CATEGORIES:Rosenkranz / Beichtgelegenheit,St. Trinitas Lübben
END:VEVENT
BEGIN:VEVENT
DTSTART;TZID=Europe/Helsinki:20250702T090000
DTEND;TZID=Europe/Helsinki:20250702T093000
DTSTAMP:20260419T160835
CREATED:20250626T172036Z
LAST-MODIFIED:20250626T172036Z
UID:4844-1751446800-1751448600@kath-luebben.de
SUMMARY:Hl.Messe in der Pfarrkirche
DESCRIPTION:
URL:https://kath-luebben.de/veranstaltungen/hl-messe-in-der-pfarrkirche-248
LOCATION:St. Trinitas Lübben\, Am kleinen Hain 28\, Lübben (Spreewald)\, Brandenburg\, 15907\, Deutschland
CATEGORIES:Hl. Messe
END:VEVENT
BEGIN:VEVENT
DTSTART;TZID=Europe/Helsinki:20250703T093000
DTEND;TZID=Europe/Helsinki:20250703T110000
DTSTAMP:20260419T160835
CREATED:20250626T172119Z
LAST-MODIFIED:20250626T172119Z
UID:4846-1751535000-1751540400@kath-luebben.de
SUMMARY:Hl. Messe in Straupitz (Hausgottesdienst)
DESCRIPTION:Cottbuserstr.11
URL:https://kath-luebben.de/veranstaltungen/hl-messe-in-straupitz-hausgottesdienst-9
LOCATION:Brandenburg
CATEGORIES:Hl. Messe
END:VEVENT
BEGIN:VEVENT
DTSTART;TZID=Europe/Helsinki:20250704T183000
DTEND;TZID=Europe/Helsinki:20250704T190000
DTSTAMP:20260419T160835
CREATED:20250626T172138Z
LAST-MODIFIED:20250626T172138Z
UID:4848-1751653800-1751655600@kath-luebben.de
SUMMARY:Anbetung in der Pfarrkirche
DESCRIPTION:eine halbe stunde in der stille vor dem Allerheiligsten…..
URL:https://kath-luebben.de/veranstaltungen/anbetung-in-der-pfarrkirche-43
LOCATION:St. Trinitas Lübben\, Am kleinen Hain 28\, Lübben (Spreewald)\, Brandenburg\, 15907\, Deutschland
CATEGORIES:Anbetung,Andacht,St. Trinitas Lübben
END:VEVENT
BEGIN:VEVENT
DTSTART;TZID=Europe/Helsinki:20250704T190000
DTEND;TZID=Europe/Helsinki:20250704T193000
DTSTAMP:20260419T160835
CREATED:20250626T172156Z
LAST-MODIFIED:20250626T172156Z
UID:4850-1751655600-1751657400@kath-luebben.de
SUMMARY:Hl. Messe  in der Pfarrkirche
DESCRIPTION:
URL:https://kath-luebben.de/veranstaltungen/hl-messe-in-der-pfarrkirche-249
LOCATION:St. Trinitas Lübben\, Am kleinen Hain 28\, Lübben (Spreewald)\, Brandenburg\, 15907\, Deutschland
CATEGORIES:Hl. Messe
END:VEVENT
BEGIN:VEVENT
DTSTART;TZID=Europe/Helsinki:20250704T193000
DTEND;TZID=Europe/Helsinki:20250704T210000
DTSTAMP:20260419T160835
CREATED:20250626T172707Z
LAST-MODIFIED:20250626T172707Z
UID:4864-1751657400-1751662800@kath-luebben.de
SUMMARY:Glaubensabend
DESCRIPTION:Wir laden ein zum Glaubensgespräch für Erwachsene in St. Trinitas
URL:https://kath-luebben.de/veranstaltungen/glaubensabend-4
LOCATION:St. Trinitas Lübben (Pfarrsaal)\, Am kleinen Hain 28\, Lübben (Spreewald)\, Brandenburg\, 15907\, Deutschland
CATEGORIES:Glaubensabend,Glaubensgespräch,St. Trinitas Lübben
END:VEVENT
BEGIN:VEVENT
DTSTART;TZID=Europe/Helsinki:20250705T170000
DTEND;TZID=Europe/Helsinki:20250705T180000
DTSTAMP:20260419T160835
CREATED:20250626T172213Z
LAST-MODIFIED:20250626T172213Z
UID:4852-1751734800-1751738400@kath-luebben.de
SUMMARY:Hl. Messe in Schwerin
DESCRIPTION:
URL:https://kath-luebben.de/veranstaltungen/hl-messe-in-schwerin-61
LOCATION:St. Maria Stella Matutina Schwerin\, Teupitzer Str. 49\, Schwerin\, Brandenburg\, 15755\, Deutschland
CATEGORIES:Hl. Messe,St. Maria Stella Matutina Schwerin
END:VEVENT
BEGIN:VEVENT
DTSTART;TZID=Europe/Helsinki:20250706T083000
DTEND;TZID=Europe/Helsinki:20250706T093000
DTSTAMP:20260419T160835
CREATED:20250626T172240Z
LAST-MODIFIED:20250626T172240Z
UID:4854-1751790600-1751794200@kath-luebben.de
SUMMARY:Wortgotesfeier in Gröditsch
DESCRIPTION:
URL:https://kath-luebben.de/veranstaltungen/wortgotesfeier-in-groeditsch
LOCATION:St. Mater Maria Gröditsch\, Gröditscher Dorfstr. 10a\, Märkische Heide\, Brandenburg\, 15913\, Deutschland
CATEGORIES:Hl. Messe,St. Mater Maria Gröditsch
END:VEVENT
BEGIN:VEVENT
DTSTART;TZID=Europe/Helsinki:20250706T090000
DTEND;TZID=Europe/Helsinki:20250706T100000
DTSTAMP:20260419T160835
CREATED:20250705T194730Z
LAST-MODIFIED:20250705T194730Z
UID:4885-1751792400-1751796000@kath-luebben.de
SUMMARY:Hl. Messe  in der Pfarrkirche
DESCRIPTION:
URL:https://kath-luebben.de/veranstaltungen/hl-messe-in-der-pfarrkirche-252
LOCATION:St. Trinitas Lübben\, Am kleinen Hain 28\, Lübben (Spreewald)\, Brandenburg\, 15907\, Deutschland
CATEGORIES:Hl. Messe
END:VEVENT
BEGIN:VEVENT
DTSTART;TZID=Europe/Helsinki:20250706T103000
DTEND;TZID=Europe/Helsinki:20250706T113000
DTSTAMP:20260419T160835
CREATED:20250626T172347Z
LAST-MODIFIED:20250626T172347Z
UID:4858-1751797800-1751801400@kath-luebben.de
SUMMARY:Feier der Spendung der Firmung in Lübbenau
DESCRIPTION:Lübbenau\, Straße des Friedens 3a
URL:https://kath-luebben.de/veranstaltungen/feier-der-spendung-der-firmung-in-luebbenau
LOCATION:Brandenburg
END:VEVENT
BEGIN:VEVENT
DTSTART;TZID=Europe/Helsinki:20250708T143000
DTEND;TZID=Europe/Helsinki:20250708T160000
DTSTAMP:20260419T160835
CREATED:20250705T194852Z
LAST-MODIFIED:20250705T194852Z
UID:4889-1751985000-1751990400@kath-luebben.de
SUMMARY:Religionsunterricht Klasse 4-5
DESCRIPTION:
URL:https://kath-luebben.de/veranstaltungen/religionsunterricht-klasse-4-5-7
LOCATION:St. Trinitas Lübben\, Am kleinen Hain 28\, Lübben (Spreewald)\, Brandenburg\, 15907\, Deutschland
CATEGORIES:Religionsunterricht,St. Trinitas Lübben
END:VEVENT
BEGIN:VEVENT
DTSTART;TZID=Europe/Helsinki:20250709T083000
DTEND;TZID=Europe/Helsinki:20250709T090000
DTSTAMP:20260419T160835
CREATED:20250705T194401Z
LAST-MODIFIED:20250705T194401Z
UID:4873-1752049800-1752051600@kath-luebben.de
SUMMARY:Rosenkranz  in der Pfarrkirche
DESCRIPTION:
URL:https://kath-luebben.de/veranstaltungen/rosenkranz-in-der-pfarrkirche-60
LOCATION:St. Trinitas Lübben\, Am kleinen Hain 28\, Lübben (Spreewald)\, Brandenburg\, 15907\, Deutschland
CATEGORIES:Rosenkranz / Beichtgelegenheit,St. Trinitas Lübben
END:VEVENT
BEGIN:VEVENT
DTSTART;TZID=Europe/Helsinki:20250709T090000
DTEND;TZID=Europe/Helsinki:20250709T093000
DTSTAMP:20260419T160835
CREATED:20250705T194424Z
LAST-MODIFIED:20250705T194431Z
UID:4875-1752051600-1752053400@kath-luebben.de
SUMMARY:Wortgottesfeier in der Pfarrkirche
DESCRIPTION:
URL:https://kath-luebben.de/veranstaltungen/wortgottesfeier-in-der-pfarrkirche-26
LOCATION:St. Trinitas Lübben\, Am kleinen Hain 28\, Lübben (Spreewald)\, Brandenburg\, 15907\, Deutschland
CATEGORIES:Hl. Messe
END:VEVENT
BEGIN:VEVENT
DTSTART;TZID=Europe/Helsinki:20250709T150000
DTEND;TZID=Europe/Helsinki:20250709T180000
DTSTAMP:20260419T160835
CREATED:20250705T194945Z
LAST-MODIFIED:20250705T194945Z
UID:4891-1752073200-1752084000@kath-luebben.de
SUMMARY:Sommerfest der Seniorenrunde
DESCRIPTION:
URL:https://kath-luebben.de/veranstaltungen/sommerfest-der-seniorenrunde-2
LOCATION:Brandenburg
END:VEVENT
BEGIN:VEVENT
DTSTART;TZID=Europe/Helsinki:20250711T183000
DTEND;TZID=Europe/Helsinki:20250711T190000
DTSTAMP:20260419T160835
CREATED:20250705T194511Z
LAST-MODIFIED:20250705T194511Z
UID:4877-1752258600-1752260400@kath-luebben.de
SUMMARY:Anbetung in der Pfarrkirche
DESCRIPTION:eine halbe stunde in der stille vor dem Allerheiligsten…..
URL:https://kath-luebben.de/veranstaltungen/anbetung-in-der-pfarrkirche-44
LOCATION:St. Trinitas Lübben\, Am kleinen Hain 28\, Lübben (Spreewald)\, Brandenburg\, 15907\, Deutschland
CATEGORIES:Anbetung,Andacht,St. Trinitas Lübben
END:VEVENT
BEGIN:VEVENT
DTSTART;TZID=Europe/Helsinki:20250711T190000
DTEND;TZID=Europe/Helsinki:20250711T193000
DTSTAMP:20260419T160835
CREATED:20250705T194536Z
LAST-MODIFIED:20250705T194536Z
UID:4879-1752260400-1752262200@kath-luebben.de
SUMMARY:Hl. Messe  in der Pfarrkirche
DESCRIPTION:
URL:https://kath-luebben.de/veranstaltungen/hl-messe-in-der-pfarrkirche-251
LOCATION:St. Trinitas Lübben\, Am kleinen Hain 28\, Lübben (Spreewald)\, Brandenburg\, 15907\, Deutschland
CATEGORIES:Hl. Messe
END:VEVENT
BEGIN:VEVENT
DTSTART;TZID=Europe/Helsinki:20250712T170000
DTEND;TZID=Europe/Helsinki:20250712T180000
DTSTAMP:20260419T160835
CREATED:20250705T194613Z
LAST-MODIFIED:20250705T194613Z
UID:4881-1752339600-1752343200@kath-luebben.de
SUMMARY:Hl. Messe in Schwerin
DESCRIPTION:
URL:https://kath-luebben.de/veranstaltungen/hl-messe-in-schwerin-62
LOCATION:St. Maria Stella Matutina Schwerin\, Teupitzer Str. 49\, Schwerin\, Brandenburg\, 15755\, Deutschland
CATEGORIES:Hl. Messe,St. Maria Stella Matutina Schwerin
END:VEVENT
BEGIN:VEVENT
DTSTART;TZID=Europe/Helsinki:20250713T083000
DTEND;TZID=Europe/Helsinki:20250713T093000
DTSTAMP:20260419T160835
CREATED:20250705T194635Z
LAST-MODIFIED:20250705T194635Z
UID:4883-1752395400-1752399000@kath-luebben.de
SUMMARY:Hl.Messe in Gröditsch
DESCRIPTION:
URL:https://kath-luebben.de/veranstaltungen/hl-messe-in-groeditsch-42
LOCATION:St. Mater Maria Gröditsch\, Gröditscher Dorfstr. 10a\, Märkische Heide\, Brandenburg\, 15913\, Deutschland
CATEGORIES:Hl. Messe,St. Mater Maria Gröditsch
END:VEVENT
BEGIN:VEVENT
DTSTART;TZID=Europe/Helsinki:20250713T100000
DTEND;TZID=Europe/Helsinki:20250713T110000
DTSTAMP:20260419T160835
CREATED:20250705T194804Z
LAST-MODIFIED:20250705T194804Z
UID:4887-1752400800-1752404400@kath-luebben.de
SUMMARY:Hl. Messe  in der Pfarrkirche
DESCRIPTION:
URL:https://kath-luebben.de/veranstaltungen/hl-messe-in-der-pfarrkirche-253
LOCATION:St. Trinitas Lübben\, Am kleinen Hain 28\, Lübben (Spreewald)\, Brandenburg\, 15907\, Deutschland
CATEGORIES:Hl. Messe
END:VEVENT
BEGIN:VEVENT
DTSTART;TZID=Europe/Helsinki:20250713T103000
DTEND;TZID=Europe/Helsinki:20250713T110000
DTSTAMP:20260419T160835
CREATED:20250805T142951Z
LAST-MODIFIED:20250805T142951Z
UID:4942-1752402600-1752404400@kath-luebben.de
SUMMARY:Hl. Messe  in der Pfarrkirche
DESCRIPTION:
URL:https://kath-luebben.de/veranstaltungen/hl-messe-in-der-pfarrkirche-255
LOCATION:St. Trinitas Lübben\, Am kleinen Hain 28\, Lübben (Spreewald)\, Brandenburg\, 15907\, Deutschland
CATEGORIES:Hl. Messe
END:VEVENT
BEGIN:VEVENT
DTSTART;TZID=Europe/Helsinki:20250718T150000
DTEND;TZID=Europe/Helsinki:20250718T170000
DTSTAMP:20260419T160835
CREATED:20250705T195153Z
LAST-MODIFIED:20250705T195223Z
UID:4895-1752850800-1752858000@kath-luebben.de
SUMMARY:Paulinusfest
DESCRIPTION:Beginn mit Andacht in der Pfarrkirche \nHerzlich Willkommen
URL:https://kath-luebben.de/veranstaltungen/paulinusfest
LOCATION:Brandenburg
CATEGORIES:Feier,Hl. Messe
END:VEVENT
BEGIN:VEVENT
DTSTART;TZID=Europe/Helsinki:20250719T153000
DTEND;TZID=Europe/Helsinki:20250719T213000
DTSTAMP:20260419T160835
CREATED:20250705T195034Z
LAST-MODIFIED:20250705T195034Z
UID:4893-1752939000-1752960600@kath-luebben.de
SUMMARY:Gemeindefest
DESCRIPTION:Mit Vorabendmesse \nBeginn mit Kaffee\, anschließend Abendbrot \nHerzlich Willkommen
URL:https://kath-luebben.de/veranstaltungen/gemeindefest-2
LOCATION:Brandenburg
CATEGORIES:Feier,Hl. Messe
END:VEVENT
END:VCALENDAR