BEGIN:VCALENDAR
VERSION:2.0
PRODID:-//Kath-Luebben.de - ECPv6.15.14//NONSGML v1.0//EN
CALSCALE:GREGORIAN
METHOD:PUBLISH
X-WR-CALNAME:Kath-Luebben.de
X-ORIGINAL-URL:https://kath-luebben.de
X-WR-CALDESC:Veranstaltungen für Kath-Luebben.de
REFRESH-INTERVAL;VALUE=DURATION:PT1H
X-Robots-Tag:noindex
X-PUBLISHED-TTL:PT1H
BEGIN:VTIMEZONE
TZID:Europe/Helsinki
BEGIN:DAYLIGHT
TZOFFSETFROM:+0200
TZOFFSETTO:+0300
TZNAME:EEST
DTSTART:20240331T010000
END:DAYLIGHT
BEGIN:STANDARD
TZOFFSETFROM:+0300
TZOFFSETTO:+0200
TZNAME:EET
DTSTART:20241027T010000
END:STANDARD
BEGIN:DAYLIGHT
TZOFFSETFROM:+0200
TZOFFSETTO:+0300
TZNAME:EEST
DTSTART:20250330T010000
END:DAYLIGHT
BEGIN:STANDARD
TZOFFSETFROM:+0300
TZOFFSETTO:+0200
TZNAME:EET
DTSTART:20251026T010000
END:STANDARD
BEGIN:DAYLIGHT
TZOFFSETFROM:+0200
TZOFFSETTO:+0300
TZNAME:EEST
DTSTART:20260329T010000
END:DAYLIGHT
BEGIN:STANDARD
TZOFFSETFROM:+0300
TZOFFSETTO:+0200
TZNAME:EET
DTSTART:20261025T010000
END:STANDARD
END:VTIMEZONE
BEGIN:VEVENT
DTSTART;TZID=Europe/Helsinki:20250401T143000
DTEND;TZID=Europe/Helsinki:20250401T160000
DTSTAMP:20260419T205315
CREATED:20250327T164512Z
LAST-MODIFIED:20250327T164512Z
UID:4584-1743517800-1743523200@kath-luebben.de
SUMMARY:Religionsunterricht Klasse 2-3 (Sakramentengruppe)
DESCRIPTION:
URL:https://kath-luebben.de/veranstaltungen/religionsunterricht-klasse-2-3-sakramentengruppe-5
LOCATION:St. Trinitas Lübben\, Am kleinen Hain 28\, Lübben (Spreewald)\, Brandenburg\, 15907\, Deutschland
CATEGORIES:Religionsunterricht,Religionsunterricht Klasse 2-4 (Sakramentengruppe),St. Trinitas Lübben
END:VEVENT
BEGIN:VEVENT
DTSTART;TZID=Europe/Helsinki:20250402T083000
DTEND;TZID=Europe/Helsinki:20250402T090000
DTSTAMP:20260419T205315
CREATED:20250327T164232Z
LAST-MODIFIED:20250327T164232Z
UID:4570-1743582600-1743584400@kath-luebben.de
SUMMARY:Rosenkranz  in der Pfarrkirche
DESCRIPTION:
URL:https://kath-luebben.de/veranstaltungen/rosenkranz-in-der-pfarrkirche-47
LOCATION:St. Trinitas Lübben\, Am kleinen Hain 28\, Lübben (Spreewald)\, Brandenburg\, 15907\, Deutschland
CATEGORIES:Rosenkranz / Beichtgelegenheit,St. Trinitas Lübben
END:VEVENT
BEGIN:VEVENT
DTSTART;TZID=Europe/Helsinki:20250402T090000
DTEND;TZID=Europe/Helsinki:20250402T093000
DTSTAMP:20260419T205315
CREATED:20250327T164251Z
LAST-MODIFIED:20250327T164251Z
UID:4572-1743584400-1743586200@kath-luebben.de
SUMMARY:Hl. Messe in der Pfarrkirche
DESCRIPTION:
URL:https://kath-luebben.de/veranstaltungen/hl-messe-in-der-pfarrkirche-222
LOCATION:St. Trinitas Lübben\, Am kleinen Hain 28\, Lübben (Spreewald)\, Brandenburg\, 15907\, Deutschland
CATEGORIES:Hl. Messe
END:VEVENT
BEGIN:VEVENT
DTSTART;TZID=Europe/Helsinki:20250402T190000
DTEND;TZID=Europe/Helsinki:20250402T200000
DTSTAMP:20260419T205315
CREATED:20250327T164711Z
LAST-MODIFIED:20250327T164740Z
UID:4588-1743620400-1743624000@kath-luebben.de
SUMMARY:Elternversammlung zur Kommunionvorbereitung
DESCRIPTION:
URL:https://kath-luebben.de/veranstaltungen/elternversammlung-zur-kommunionvorbereitung-2
LOCATION:Brandenburg
END:VEVENT
BEGIN:VEVENT
DTSTART;TZID=Europe/Helsinki:20250404T183000
DTEND;TZID=Europe/Helsinki:20250404T190000
DTSTAMP:20260419T205315
CREATED:20250327T164309Z
LAST-MODIFIED:20250327T164309Z
UID:4574-1743791400-1743793200@kath-luebben.de
SUMMARY:Kreuzwegandacht
DESCRIPTION:
URL:https://kath-luebben.de/veranstaltungen/kreuzwegandacht-12
LOCATION:St. Trinitas Lübben\, Am kleinen Hain 28\, Lübben (Spreewald)\, Brandenburg\, 15907\, Deutschland
CATEGORIES:Anbetung,Andacht,St. Trinitas Lübben
END:VEVENT
BEGIN:VEVENT
DTSTART;TZID=Europe/Helsinki:20250404T190000
DTEND;TZID=Europe/Helsinki:20250404T193000
DTSTAMP:20260419T205315
CREATED:20250327T164335Z
LAST-MODIFIED:20250327T164335Z
UID:4576-1743793200-1743795000@kath-luebben.de
SUMMARY:Hl. Messe  in der Pfarrkirche
DESCRIPTION:
URL:https://kath-luebben.de/veranstaltungen/hl-messe-in-der-pfarrkirche-223
LOCATION:St. Trinitas Lübben\, Am kleinen Hain 28\, Lübben (Spreewald)\, Brandenburg\, 15907\, Deutschland
CATEGORIES:Hl. Messe
END:VEVENT
BEGIN:VEVENT
DTSTART;TZID=Europe/Helsinki:20250404T193000
DTEND;TZID=Europe/Helsinki:20250404T203000
DTSTAMP:20260419T205315
CREATED:20250327T164617Z
LAST-MODIFIED:20250327T164617Z
UID:4586-1743795000-1743798600@kath-luebben.de
SUMMARY:Glaubensgespräche zur Fastenzeit
DESCRIPTION:
URL:https://kath-luebben.de/veranstaltungen/glaubensgespraeche-zur-fastenzeit-4
LOCATION:St. Trinitas Lübben\, Am kleinen Hain 28\, Lübben (Spreewald)\, Brandenburg\, 15907\, Deutschland
CATEGORIES:Glaubensgespräch,St. Trinitas Lübben
END:VEVENT
BEGIN:VEVENT
DTSTART;TZID=Europe/Helsinki:20250405T170000
DTEND;TZID=Europe/Helsinki:20250405T180000
DTSTAMP:20260419T205315
CREATED:20250327T164358Z
LAST-MODIFIED:20250327T164434Z
UID:4578-1743872400-1743876000@kath-luebben.de
SUMMARY:Wortgottesfeier in Schwerin
DESCRIPTION:
URL:https://kath-luebben.de/veranstaltungen/wortgottesfeier-in-schwerin-21
LOCATION:St. Maria Stella Matutina Schwerin\, Teupitzer Str. 49\, Schwerin\, Brandenburg\, 15755\, Deutschland
CATEGORIES:Hl. Messe,St. Maria Stella Matutina Schwerin
END:VEVENT
BEGIN:VEVENT
DTSTART;TZID=Europe/Helsinki:20250406T083000
DTEND;TZID=Europe/Helsinki:20250406T093000
DTSTAMP:20260419T205315
CREATED:20250327T164420Z
LAST-MODIFIED:20250327T164420Z
UID:4580-1743928200-1743931800@kath-luebben.de
SUMMARY:Wortgottesfeier in Gröditsch
DESCRIPTION:
URL:https://kath-luebben.de/veranstaltungen/wortgottesfeier-in-groeditsch-51
LOCATION:St. Mater Maria Gröditsch\, Gröditscher Dorfstr. 10a\, Märkische Heide\, Brandenburg\, 15913\, Deutschland
CATEGORIES:Hl. Messe,St. Mater Maria Gröditsch
END:VEVENT
BEGIN:VEVENT
DTSTART;TZID=Europe/Helsinki:20250406T100000
DTEND;TZID=Europe/Helsinki:20250406T110000
DTSTAMP:20260419T205315
CREATED:20250327T164450Z
LAST-MODIFIED:20250327T164450Z
UID:4582-1743933600-1743937200@kath-luebben.de
SUMMARY:Hl. Messe  in der Pfarrkirche
DESCRIPTION:
URL:https://kath-luebben.de/veranstaltungen/hl-messe-in-der-pfarrkirche-224
LOCATION:St. Trinitas Lübben\, Am kleinen Hain 28\, Lübben (Spreewald)\, Brandenburg\, 15907\, Deutschland
CATEGORIES:Hl. Messe
END:VEVENT
BEGIN:VEVENT
DTSTART;TZID=Europe/Helsinki:20250409T083000
DTEND;TZID=Europe/Helsinki:20250409T090000
DTSTAMP:20260419T205315
CREATED:20250407T110500Z
LAST-MODIFIED:20250407T110500Z
UID:4600-1744187400-1744189200@kath-luebben.de
SUMMARY:Rosenkranz  in der Pfarrkirche
DESCRIPTION:
URL:https://kath-luebben.de/veranstaltungen/rosenkranz-in-der-pfarrkirche-48
LOCATION:St. Trinitas Lübben\, Am kleinen Hain 28\, Lübben (Spreewald)\, Brandenburg\, 15907\, Deutschland
CATEGORIES:Rosenkranz / Beichtgelegenheit,St. Trinitas Lübben
END:VEVENT
BEGIN:VEVENT
DTSTART;TZID=Europe/Helsinki:20250409T090000
DTEND;TZID=Europe/Helsinki:20250409T093000
DTSTAMP:20260419T205315
CREATED:20250407T110516Z
LAST-MODIFIED:20250407T110516Z
UID:4602-1744189200-1744191000@kath-luebben.de
SUMMARY:Hl. Messe in der Pfarrkirche
DESCRIPTION:
URL:https://kath-luebben.de/veranstaltungen/hl-messe-in-der-pfarrkirche-225
LOCATION:St. Trinitas Lübben\, Am kleinen Hain 28\, Lübben (Spreewald)\, Brandenburg\, 15907\, Deutschland
CATEGORIES:Hl. Messe
END:VEVENT
BEGIN:VEVENT
DTSTART;TZID=Europe/Helsinki:20250410T093000
DTEND;TZID=Europe/Helsinki:20250410T110000
DTSTAMP:20260419T205315
CREATED:20250407T110544Z
LAST-MODIFIED:20250407T110544Z
UID:4604-1744277400-1744282800@kath-luebben.de
SUMMARY:Hl. Messe in Straupitz (Hausgottesdienst)
DESCRIPTION:
URL:https://kath-luebben.de/veranstaltungen/hl-messe-in-straupitz-hausgottesdienst-8
LOCATION:Brandenburg
CATEGORIES:Hl. Messe
END:VEVENT
BEGIN:VEVENT
DTSTART;TZID=Europe/Helsinki:20250411T183000
DTEND;TZID=Europe/Helsinki:20250411T190000
DTSTAMP:20260419T205315
CREATED:20250407T110605Z
LAST-MODIFIED:20250407T110605Z
UID:4606-1744396200-1744398000@kath-luebben.de
SUMMARY:Kreuzwegandacht
DESCRIPTION:
URL:https://kath-luebben.de/veranstaltungen/kreuzwegandacht-13
LOCATION:St. Trinitas Lübben\, Am kleinen Hain 28\, Lübben (Spreewald)\, Brandenburg\, 15907\, Deutschland
CATEGORIES:Anbetung,Andacht,St. Trinitas Lübben
END:VEVENT
BEGIN:VEVENT
DTSTART;TZID=Europe/Helsinki:20250411T190000
DTEND;TZID=Europe/Helsinki:20250411T193000
DTSTAMP:20260419T205315
CREATED:20250407T110625Z
LAST-MODIFIED:20250407T110625Z
UID:4608-1744398000-1744399800@kath-luebben.de
SUMMARY:Hl. Messe  in der Pfarrkirche
DESCRIPTION:
URL:https://kath-luebben.de/veranstaltungen/hl-messe-in-der-pfarrkirche-226
LOCATION:St. Trinitas Lübben\, Am kleinen Hain 28\, Lübben (Spreewald)\, Brandenburg\, 15907\, Deutschland
CATEGORIES:Hl. Messe
END:VEVENT
BEGIN:VEVENT
DTSTART;TZID=Europe/Helsinki:20250411T193000
DTEND;TZID=Europe/Helsinki:20250411T210000
DTSTAMP:20260419T205315
CREATED:20250407T110815Z
LAST-MODIFIED:20250407T110815Z
UID:4610-1744399800-1744405200@kath-luebben.de
SUMMARY:Beichtgelegenheit bei Pfr. Dutzschke
DESCRIPTION:
URL:https://kath-luebben.de/veranstaltungen/beichtgelegenheit-bei-pfr-dutzschke
LOCATION:St. Trinitas Lübben\, Am kleinen Hain 28\, Lübben (Spreewald)\, Brandenburg\, 15907\, Deutschland
END:VEVENT
BEGIN:VEVENT
DTSTART;TZID=Europe/Helsinki:20250412T170000
DTEND;TZID=Europe/Helsinki:20250412T180000
DTSTAMP:20260419T205315
CREATED:20250407T110839Z
LAST-MODIFIED:20250407T110839Z
UID:4612-1744477200-1744480800@kath-luebben.de
SUMMARY:Heilige Messe in Schwerin
DESCRIPTION:
URL:https://kath-luebben.de/veranstaltungen/heilige-messe-in-schwerin-19
LOCATION:St. Maria Stella Matutina Schwerin\, Teupitzer Str. 49\, Schwerin\, Brandenburg\, 15755\, Deutschland
CATEGORIES:Hl. Messe,St. Maria Stella Matutina Schwerin
END:VEVENT
BEGIN:VEVENT
DTSTART;TZID=Europe/Helsinki:20250413T100000
DTEND;TZID=Europe/Helsinki:20250413T110000
DTSTAMP:20260419T205315
CREATED:20250407T110854Z
LAST-MODIFIED:20250412T092142Z
UID:4614-1744538400-1744542000@kath-luebben.de
SUMMARY:Hl. Messe mit Prozession und Palmenweihe in der Pfarrkirche
DESCRIPTION:
URL:https://kath-luebben.de/veranstaltungen/hl-messe-in-der-pfarrkirche-227
LOCATION:St. Trinitas Lübben\, Am kleinen Hain 28\, Lübben (Spreewald)\, Brandenburg\, 15907\, Deutschland
CATEGORIES:Hl. Messe
END:VEVENT
BEGIN:VEVENT
DTSTART;TZID=Europe/Helsinki:20250416T083000
DTEND;TZID=Europe/Helsinki:20250416T090000
DTSTAMP:20260419T205315
CREATED:20250407T110911Z
LAST-MODIFIED:20250407T110911Z
UID:4616-1744792200-1744794000@kath-luebben.de
SUMMARY:Rosenkranz  in der Pfarrkirche
DESCRIPTION:
URL:https://kath-luebben.de/veranstaltungen/rosenkranz-in-der-pfarrkirche-49
LOCATION:St. Trinitas Lübben\, Am kleinen Hain 28\, Lübben (Spreewald)\, Brandenburg\, 15907\, Deutschland
CATEGORIES:Rosenkranz / Beichtgelegenheit,St. Trinitas Lübben
END:VEVENT
BEGIN:VEVENT
DTSTART;TZID=Europe/Helsinki:20250416T090000
DTEND;TZID=Europe/Helsinki:20250416T093000
DTSTAMP:20260419T205315
CREATED:20250407T110931Z
LAST-MODIFIED:20250407T110931Z
UID:4618-1744794000-1744795800@kath-luebben.de
SUMMARY:Hl. Messe in der Pfarrkirche
DESCRIPTION:
URL:https://kath-luebben.de/veranstaltungen/hl-messe-in-der-pfarrkirche-228
LOCATION:St. Trinitas Lübben\, Am kleinen Hain 28\, Lübben (Spreewald)\, Brandenburg\, 15907\, Deutschland
CATEGORIES:Hl. Messe
END:VEVENT
BEGIN:VEVENT
DTSTART;TZID=Europe/Helsinki:20250416T093000
DTEND;TZID=Europe/Helsinki:20250416T120000
DTSTAMP:20260419T205315
CREATED:20250412T092006Z
LAST-MODIFIED:20250412T092006Z
UID:4655-1744795800-1744804800@kath-luebben.de
SUMMARY:Seniorenrunde
DESCRIPTION:Zur monatlichen Seniorenrunde wird ganz herzlich eingeladen.
URL:https://kath-luebben.de/veranstaltungen/seniorenrunde-13
LOCATION:St. Trinitas Lübben (Pfarrsaal)\, Am kleinen Hain 28\, Lübben (Spreewald)\, Brandenburg\, 15907\, Deutschland
CATEGORIES:Seniorenrunde,St. Trinitas Lübben
END:VEVENT
BEGIN:VEVENT
DTSTART;TZID=Europe/Helsinki:20250417T170000
DTEND;TZID=Europe/Helsinki:20250417T190000
DTSTAMP:20260419T205315
CREATED:20250412T090932Z
LAST-MODIFIED:20250412T090932Z
UID:4625-1744909200-1744916400@kath-luebben.de
SUMMARY:Ölbergstunde in Schwerin anschl. Agape
DESCRIPTION:
URL:https://kath-luebben.de/veranstaltungen/oelbergstunde-in-schwerin-anschl-agape-3
LOCATION:St. Maria Stella Matutina Schwerin\, Teupitzer Str. 49\, Schwerin\, Brandenburg\, 15755\, Deutschland
CATEGORIES:Hl. Messe
END:VEVENT
BEGIN:VEVENT
DTSTART;TZID=Europe/Helsinki:20250417T170000
DTEND;TZID=Europe/Helsinki:20250417T190000
DTSTAMP:20260419T205315
CREATED:20250412T091052Z
LAST-MODIFIED:20250412T091052Z
UID:4627-1744909200-1744916400@kath-luebben.de
SUMMARY:Ölbergstunde in Gröditsch
DESCRIPTION:
URL:https://kath-luebben.de/veranstaltungen/oelbergstunde-in-groeditsch
LOCATION:St. Mater Maria Gröditsch\, Gröditscher Dorfstr. 10a\, Märkische Heide\, Brandenburg\, 15913\, Deutschland
CATEGORIES:Hl. Messe
END:VEVENT
BEGIN:VEVENT
DTSTART;TZID=Europe/Helsinki:20250417T190000
DTEND;TZID=Europe/Helsinki:20250417T210000
DTSTAMP:20260419T205315
CREATED:20250412T091131Z
LAST-MODIFIED:20250412T091131Z
UID:4629-1744916400-1744923600@kath-luebben.de
SUMMARY:Die Feier des letzten Abendmahles in der Pfarrkirche\, anschl. Agape
DESCRIPTION:
URL:https://kath-luebben.de/veranstaltungen/die-feier-des-letzten-abendmahles-in-der-pfarrkirche-anschl-agape-3
LOCATION:St. Trinitas Lübben\, Am kleinen Hain 28\, Lübben (Spreewald)\, Brandenburg\, 15907\, Deutschland
CATEGORIES:Hl. Messe
END:VEVENT
BEGIN:VEVENT
DTSTART;TZID=Europe/Helsinki:20250417T210000
DTEND;TZID=Europe/Helsinki:20250417T213000
DTSTAMP:20260419T205315
CREATED:20250412T091159Z
LAST-MODIFIED:20250412T091159Z
UID:4631-1744923600-1744925400@kath-luebben.de
SUMMARY:Ölbergstunde in der Pfarrkirche
DESCRIPTION:
URL:https://kath-luebben.de/veranstaltungen/oelbergstunde-in-der-pfarrkirche-2
LOCATION:St. Trinitas Lübben\, Am kleinen Hain 28\, Lübben (Spreewald)\, Brandenburg\, 15907\, Deutschland
CATEGORIES:Anbetung,Andacht,St. Trinitas Lübben
END:VEVENT
BEGIN:VEVENT
DTSTART;TZID=Europe/Helsinki:20250418T150000
DTEND;TZID=Europe/Helsinki:20250418T163000
DTSTAMP:20260419T205315
CREATED:20250412T091250Z
LAST-MODIFIED:20250412T091250Z
UID:4633-1744988400-1744993800@kath-luebben.de
SUMMARY:Die Feier vom Leiden und Sterben des Herrn in der Pfarrkirche
DESCRIPTION:… anschl. Möglichkeit zum stillen Gebet
URL:https://kath-luebben.de/veranstaltungen/die-feier-vom-leiden-und-sterben-des-herrn-in-der-pfarrkirche-4
LOCATION:St. Trinitas Lübben\, Am kleinen Hain 28\, Lübben (Spreewald)\, Brandenburg\, 15907\, Deutschland
CATEGORIES:Hl. Messe
END:VEVENT
BEGIN:VEVENT
DTSTART;TZID=Europe/Helsinki:20250418T150000
DTEND;TZID=Europe/Helsinki:20250418T163000
DTSTAMP:20260419T205315
CREATED:20250412T091431Z
LAST-MODIFIED:20250412T091431Z
UID:4637-1744988400-1744993800@kath-luebben.de
SUMMARY:Die Feier vom Leiden und Sterben des Herrn in Schwerin
DESCRIPTION:
URL:https://kath-luebben.de/veranstaltungen/die-feier-vom-leiden-und-sterben-des-herrn-in-schwerin-3
LOCATION:St. Maria Stella Matutina Schwerin\, Teupitzer Str. 49\, Schwerin\, Brandenburg\, 15755\, Deutschland
CATEGORIES:Hl. Messe
END:VEVENT
BEGIN:VEVENT
DTSTART;TZID=Europe/Helsinki:20250418T150000
DTEND;TZID=Europe/Helsinki:20250418T163000
DTSTAMP:20260419T205315
CREATED:20250412T091456Z
LAST-MODIFIED:20250412T091512Z
UID:4639-1744988400-1744993800@kath-luebben.de
SUMMARY:Die Feier vom Leiden und Sterben des Herrn in Gröditsch
DESCRIPTION:
URL:https://kath-luebben.de/veranstaltungen/die-feier-vom-leiden-und-sterben-des-herrn-in-groeditsch
LOCATION:St. Mater Maria Gröditsch\, Gröditscher Dorfstr. 10a\, Märkische Heide\, Brandenburg\, 15913\, Deutschland
CATEGORIES:Hl. Messe
END:VEVENT
BEGIN:VEVENT
DTSTART;TZID=Europe/Helsinki:20250419T210000
DTEND;TZID=Europe/Helsinki:20250419T230000
DTSTAMP:20260419T205315
CREATED:20250412T091605Z
LAST-MODIFIED:20250412T091605Z
UID:4641-1745096400-1745103600@kath-luebben.de
SUMMARY:Die Feier der hochheiligen Osternacht in der Pfarrkirche\, anschl. Osterfeuer und Osterwasser
DESCRIPTION:
URL:https://kath-luebben.de/veranstaltungen/die-feier-der-hochheiligen-osternacht-in-der-pfarrkirche-anschl-osterfeuer-und-osterwasser-3
LOCATION:St. Trinitas Lübben\, Am kleinen Hain 28\, Lübben (Spreewald)\, Brandenburg\, 15907\, Deutschland
CATEGORIES:Hl. Messe
END:VEVENT
BEGIN:VEVENT
DTSTART;TZID=Europe/Helsinki:20250420T083000
DTEND;TZID=Europe/Helsinki:20250420T093000
DTSTAMP:20260419T205315
CREATED:20250412T091633Z
LAST-MODIFIED:20250412T091633Z
UID:4643-1745137800-1745141400@kath-luebben.de
SUMMARY:Wortgottesfeier in Gröditsch
DESCRIPTION:
URL:https://kath-luebben.de/veranstaltungen/wortgottesfeier-in-groeditsch-52
LOCATION:St. Mater Maria Gröditsch\, Gröditscher Dorfstr. 10a\, Märkische Heide\, Brandenburg\, 15913\, Deutschland
CATEGORIES:Hl. Messe,St. Mater Maria Gröditsch
END:VEVENT
END:VCALENDAR