BEGIN:VCALENDAR
VERSION:2.0
PRODID:-//Kath-Luebben.de - ECPv6.15.14//NONSGML v1.0//EN
CALSCALE:GREGORIAN
METHOD:PUBLISH
X-ORIGINAL-URL:https://kath-luebben.de
X-WR-CALDESC:Veranstaltungen für Kath-Luebben.de
REFRESH-INTERVAL;VALUE=DURATION:PT1H
X-Robots-Tag:noindex
X-PUBLISHED-TTL:PT1H
BEGIN:VTIMEZONE
TZID:Europe/Helsinki
BEGIN:DAYLIGHT
TZOFFSETFROM:+0200
TZOFFSETTO:+0300
TZNAME:EEST
DTSTART:20240331T010000
END:DAYLIGHT
BEGIN:STANDARD
TZOFFSETFROM:+0300
TZOFFSETTO:+0200
TZNAME:EET
DTSTART:20241027T010000
END:STANDARD
BEGIN:DAYLIGHT
TZOFFSETFROM:+0200
TZOFFSETTO:+0300
TZNAME:EEST
DTSTART:20250330T010000
END:DAYLIGHT
BEGIN:STANDARD
TZOFFSETFROM:+0300
TZOFFSETTO:+0200
TZNAME:EET
DTSTART:20251026T010000
END:STANDARD
BEGIN:DAYLIGHT
TZOFFSETFROM:+0200
TZOFFSETTO:+0300
TZNAME:EEST
DTSTART:20260329T010000
END:DAYLIGHT
BEGIN:STANDARD
TZOFFSETFROM:+0300
TZOFFSETTO:+0200
TZNAME:EET
DTSTART:20261025T010000
END:STANDARD
END:VTIMEZONE
BEGIN:VEVENT
DTSTART;TZID=Europe/Helsinki:20250301T170000
DTEND;TZID=Europe/Helsinki:20250301T180000
DTSTAMP:20260423T132722
CREATED:20250221T163906Z
LAST-MODIFIED:20250221T163906Z
UID:4489-1740848400-1740852000@kath-luebben.de
SUMMARY:Wortgottesfeier in Schwerin
DESCRIPTION:
URL:https://kath-luebben.de/veranstaltungen/wortgottesfeier-in-schwerin-20
LOCATION:St. Maria Stella Matutina Schwerin\, Teupitzer Str. 49\, Schwerin\, Brandenburg\, 15755\, Deutschland
CATEGORIES:Hl. Messe,St. Maria Stella Matutina Schwerin
END:VEVENT
BEGIN:VEVENT
DTSTART;TZID=Europe/Helsinki:20250301T190000
DTEND;TZID=Europe/Helsinki:20250301T230000
DTSTAMP:20260423T132722
CREATED:20250221T164028Z
LAST-MODIFIED:20250221T164152Z
UID:4495-1740855600-1740870000@kath-luebben.de
SUMMARY:Gemeindefasching
DESCRIPTION:Karten bitte im Vorfeld nach der 10.00 Uhr Messe erwerben \nEinlass ab 18.30Uhr
URL:https://kath-luebben.de/veranstaltungen/gemeindefasching-3
LOCATION:Brandenburg
CATEGORIES:Feier
END:VEVENT
BEGIN:VEVENT
DTSTART;TZID=Europe/Helsinki:20250302T083000
DTEND;TZID=Europe/Helsinki:20250302T093000
DTSTAMP:20260423T132722
CREATED:20250221T163935Z
LAST-MODIFIED:20250221T163935Z
UID:4491-1740904200-1740907800@kath-luebben.de
SUMMARY:Wortgottesfeier in Gröditsch
DESCRIPTION:
URL:https://kath-luebben.de/veranstaltungen/wortgottesfeier-in-groeditsch-49
LOCATION:St. Mater Maria Gröditsch\, Gröditscher Dorfstr. 10a\, Märkische Heide\, Brandenburg\, 15913\, Deutschland
CATEGORIES:Hl. Messe,St. Mater Maria Gröditsch
END:VEVENT
BEGIN:VEVENT
DTSTART;TZID=Europe/Helsinki:20250302T100000
DTEND;TZID=Europe/Helsinki:20250302T110000
DTSTAMP:20260423T132722
CREATED:20250221T163954Z
LAST-MODIFIED:20250221T163954Z
UID:4493-1740909600-1740913200@kath-luebben.de
SUMMARY:Hl. Messe  in der Pfarrkirche
DESCRIPTION:
URL:https://kath-luebben.de/veranstaltungen/hl-messe-in-der-pfarrkirche-213
LOCATION:St. Trinitas Lübben\, Am kleinen Hain 28\, Lübben (Spreewald)\, Brandenburg\, 15907\, Deutschland
CATEGORIES:Hl. Messe
END:VEVENT
BEGIN:VEVENT
DTSTART;TZID=Europe/Helsinki:20250304T143000
DTEND;TZID=Europe/Helsinki:20250304T160000
DTSTAMP:20260423T132722
CREATED:20250228T171712Z
LAST-MODIFIED:20250228T171712Z
UID:4519-1741098600-1741104000@kath-luebben.de
SUMMARY:Religionsunterricht Klasse 4-5
DESCRIPTION:
URL:https://kath-luebben.de/veranstaltungen/religionsunterricht-klasse-4-5-5
LOCATION:St. Trinitas Lübben\, Am kleinen Hain 28\, Lübben (Spreewald)\, Brandenburg\, 15907\, Deutschland
CATEGORIES:Religionsunterricht,St. Trinitas Lübben
END:VEVENT
BEGIN:VEVENT
DTSTART;TZID=Europe/Helsinki:20250304T143000
DTEND;TZID=Europe/Helsinki:20250304T163000
DTSTAMP:20260423T132722
CREATED:20250228T171754Z
LAST-MODIFIED:20250228T171754Z
UID:4521-1741098600-1741105800@kath-luebben.de
SUMMARY:Spiel- und Schwatzrunde
DESCRIPTION:Der Caritas-Besuchskreis lädt am Dienstag um 14.30 Uhr zu einer Spiel- und Schwatzrunde in das Pfarrhaus ein.
URL:https://kath-luebben.de/veranstaltungen/spiel-und-schwatzrunde-6
LOCATION:St. Trinitas Lübben (Pfarrhaus)\, Am kleinen Hain 28\, Lübben (Spreewald)\, Brandenburg\, 15907\, Deutschland
END:VEVENT
BEGIN:VEVENT
DTSTART;TZID=Europe/Helsinki:20250305T170000
DTEND;TZID=Europe/Helsinki:20250305T180000
DTSTAMP:20260423T132722
CREATED:20250228T171322Z
LAST-MODIFIED:20250228T171322Z
UID:4501-1741194000-1741197600@kath-luebben.de
SUMMARY:Heilige Messe in Schwerin
DESCRIPTION:
URL:https://kath-luebben.de/veranstaltungen/heilige-messe-in-schwerin-16
LOCATION:St. Maria Stella Matutina Schwerin\, Teupitzer Str. 49\, Schwerin\, Brandenburg\, 15755\, Deutschland
CATEGORIES:Hl. Messe,St. Maria Stella Matutina Schwerin
END:VEVENT
BEGIN:VEVENT
DTSTART;TZID=Europe/Helsinki:20250305T190000
DTEND;TZID=Europe/Helsinki:20250305T193000
DTSTAMP:20260423T132722
CREATED:20250228T171341Z
LAST-MODIFIED:20250228T171341Z
UID:4503-1741201200-1741203000@kath-luebben.de
SUMMARY:Hl. Messe  in der Pfarrkirche
DESCRIPTION:
URL:https://kath-luebben.de/veranstaltungen/hl-messe-in-der-pfarrkirche-214
LOCATION:St. Trinitas Lübben\, Am kleinen Hain 28\, Lübben (Spreewald)\, Brandenburg\, 15907\, Deutschland
CATEGORIES:Hl. Messe
END:VEVENT
BEGIN:VEVENT
DTSTART;TZID=Europe/Helsinki:20250306T093000
DTEND;TZID=Europe/Helsinki:20250306T110000
DTSTAMP:20260423T132722
CREATED:20241210T055736Z
LAST-MODIFIED:20250228T171417Z
UID:4274-1741253400-1741258800@kath-luebben.de
SUMMARY:Hl. Messe in Straupitz (Hausgottesdienst)
DESCRIPTION:
URL:https://kath-luebben.de/veranstaltungen/hl-messe-in-straupitz-hausgottesdienst-7
LOCATION:Brandenburg
CATEGORIES:Hl. Messe
END:VEVENT
BEGIN:VEVENT
DTSTART;TZID=Europe/Helsinki:20250307T190000
DTEND;TZID=Europe/Helsinki:20250307T193000
DTSTAMP:20260423T132722
CREATED:20250228T171440Z
LAST-MODIFIED:20250228T171440Z
UID:4505-1741374000-1741375800@kath-luebben.de
SUMMARY:Hl. Messe  in der Pfarrkirche
DESCRIPTION:
URL:https://kath-luebben.de/veranstaltungen/hl-messe-in-der-pfarrkirche-215
LOCATION:St. Trinitas Lübben\, Am kleinen Hain 28\, Lübben (Spreewald)\, Brandenburg\, 15907\, Deutschland
CATEGORIES:Hl. Messe
END:VEVENT
BEGIN:VEVENT
DTSTART;TZID=Europe/Helsinki:20250307T193000
DTEND;TZID=Europe/Helsinki:20250307T203000
DTSTAMP:20260423T132722
CREATED:20250228T171851Z
LAST-MODIFIED:20250228T171851Z
UID:4523-1741375800-1741379400@kath-luebben.de
SUMMARY:Glaubensgespräche zur Fastenzeit
DESCRIPTION:
URL:https://kath-luebben.de/veranstaltungen/glaubensgespraeche-zur-fastenzeit-3
LOCATION:St. Trinitas Lübben\, Am kleinen Hain 28\, Lübben (Spreewald)\, Brandenburg\, 15907\, Deutschland
CATEGORIES:Glaubensgespräch,St. Trinitas Lübben
END:VEVENT
BEGIN:VEVENT
DTSTART;TZID=Europe/Helsinki:20250308T140000
DTEND;TZID=Europe/Helsinki:20250308T150000
DTSTAMP:20260423T132722
CREATED:20250228T171546Z
LAST-MODIFIED:20250228T171546Z
UID:4507-1741442400-1741446000@kath-luebben.de
SUMMARY:Familienkreuzweg
DESCRIPTION:
URL:https://kath-luebben.de/veranstaltungen/familienkreuzweg
LOCATION:St. Trinitas Lübben\, Am kleinen Hain 28\, Lübben (Spreewald)\, Brandenburg\, 15907\, Deutschland
END:VEVENT
BEGIN:VEVENT
DTSTART;TZID=Europe/Helsinki:20250308T170000
DTEND;TZID=Europe/Helsinki:20250308T180000
DTSTAMP:20260423T132722
CREATED:20250228T171608Z
LAST-MODIFIED:20250228T171608Z
UID:4510-1741453200-1741456800@kath-luebben.de
SUMMARY:Heilige Messe in Schwerin
DESCRIPTION:
URL:https://kath-luebben.de/veranstaltungen/heilige-messe-in-schwerin-17
LOCATION:St. Maria Stella Matutina Schwerin\, Teupitzer Str. 49\, Schwerin\, Brandenburg\, 15755\, Deutschland
CATEGORIES:Hl. Messe,St. Maria Stella Matutina Schwerin
END:VEVENT
BEGIN:VEVENT
DTSTART;TZID=Europe/Helsinki:20250309T083000
DTEND;TZID=Europe/Helsinki:20250309T093000
DTSTAMP:20260423T132722
CREATED:20250228T171624Z
LAST-MODIFIED:20250228T171624Z
UID:4512-1741509000-1741512600@kath-luebben.de
SUMMARY:Wortgottesfeier in Gröditsch
DESCRIPTION:
URL:https://kath-luebben.de/veranstaltungen/wortgottesfeier-in-groeditsch-50
LOCATION:St. Mater Maria Gröditsch\, Gröditscher Dorfstr. 10a\, Märkische Heide\, Brandenburg\, 15913\, Deutschland
CATEGORIES:Hl. Messe,St. Mater Maria Gröditsch
END:VEVENT
BEGIN:VEVENT
DTSTART;TZID=Europe/Helsinki:20250309T100000
DTEND;TZID=Europe/Helsinki:20250309T110000
DTSTAMP:20260423T132722
CREATED:20250228T171641Z
LAST-MODIFIED:20250228T171641Z
UID:4516-1741514400-1741518000@kath-luebben.de
SUMMARY:Hl. Messe  in der Pfarrkirche
DESCRIPTION:
URL:https://kath-luebben.de/veranstaltungen/hl-messe-in-der-pfarrkirche-216
LOCATION:St. Trinitas Lübben\, Am kleinen Hain 28\, Lübben (Spreewald)\, Brandenburg\, 15907\, Deutschland
CATEGORIES:Hl. Messe
END:VEVENT
BEGIN:VEVENT
DTSTART;TZID=Europe/Helsinki:20250311T143000
DTEND;TZID=Europe/Helsinki:20250311T160000
DTSTAMP:20260423T132722
CREATED:20250309T080106Z
LAST-MODIFIED:20250309T080106Z
UID:4549-1741703400-1741708800@kath-luebben.de
SUMMARY:Religionsunterricht Klasse 2-3 (Sakramentengruppe)
DESCRIPTION:
URL:https://kath-luebben.de/veranstaltungen/religionsunterricht-klasse-2-3-sakramentengruppe-4
LOCATION:St. Trinitas Lübben\, Am kleinen Hain 28\, Lübben (Spreewald)\, Brandenburg\, 15907\, Deutschland
CATEGORIES:Religionsunterricht,Religionsunterricht Klasse 2-4 (Sakramentengruppe),St. Trinitas Lübben
END:VEVENT
BEGIN:VEVENT
DTSTART;TZID=Europe/Helsinki:20250312T083000
DTEND;TZID=Europe/Helsinki:20250312T090000
DTSTAMP:20260423T132722
CREATED:20250309T075837Z
LAST-MODIFIED:20250309T075837Z
UID:4537-1741768200-1741770000@kath-luebben.de
SUMMARY:Rosenkranz  in der Pfarrkirche
DESCRIPTION:
URL:https://kath-luebben.de/veranstaltungen/rosenkranz-in-der-pfarrkirche-46
LOCATION:St. Trinitas Lübben\, Am kleinen Hain 28\, Lübben (Spreewald)\, Brandenburg\, 15907\, Deutschland
CATEGORIES:Rosenkranz / Beichtgelegenheit,St. Trinitas Lübben
END:VEVENT
BEGIN:VEVENT
DTSTART;TZID=Europe/Helsinki:20250312T090000
DTEND;TZID=Europe/Helsinki:20250312T093000
DTSTAMP:20260423T132722
CREATED:20250309T075855Z
LAST-MODIFIED:20250309T075855Z
UID:4539-1741770000-1741771800@kath-luebben.de
SUMMARY:Hl. Messe in der Pfarrkirche
DESCRIPTION:
URL:https://kath-luebben.de/veranstaltungen/hl-messe-in-der-pfarrkirche-217
LOCATION:St. Trinitas Lübben\, Am kleinen Hain 28\, Lübben (Spreewald)\, Brandenburg\, 15907\, Deutschland
CATEGORIES:Hl. Messe
END:VEVENT
BEGIN:VEVENT
DTSTART;TZID=Europe/Helsinki:20250312T190000
DTEND;TZID=Europe/Helsinki:20250312T210000
DTSTAMP:20260423T132722
CREATED:20250309T080148Z
LAST-MODIFIED:20250309T080148Z
UID:4551-1741806000-1741813200@kath-luebben.de
SUMMARY:Kirchenvorstand
DESCRIPTION:nicht öffentlich..
URL:https://kath-luebben.de/veranstaltungen/kirchenvorstand-13
LOCATION:St. Trinitas Lübben (Pfarrhaus)\, Am kleinen Hain 28\, Lübben (Spreewald)\, Brandenburg\, 15907\, Deutschland
END:VEVENT
BEGIN:VEVENT
DTSTART;TZID=Europe/Helsinki:20250314T183000
DTEND;TZID=Europe/Helsinki:20250314T190000
DTSTAMP:20260423T132722
CREATED:20250309T075929Z
LAST-MODIFIED:20250309T075929Z
UID:4541-1741977000-1741978800@kath-luebben.de
SUMMARY:Kreuzwegandacht
DESCRIPTION:
URL:https://kath-luebben.de/veranstaltungen/kreuzwegandacht-10
LOCATION:St. Trinitas Lübben\, Am kleinen Hain 28\, Lübben (Spreewald)\, Brandenburg\, 15907\, Deutschland
CATEGORIES:Anbetung,Andacht,St. Trinitas Lübben
END:VEVENT
BEGIN:VEVENT
DTSTART;TZID=Europe/Helsinki:20250314T190000
DTEND;TZID=Europe/Helsinki:20250314T193000
DTSTAMP:20260423T132722
CREATED:20250309T075951Z
LAST-MODIFIED:20250309T075951Z
UID:4543-1741978800-1741980600@kath-luebben.de
SUMMARY:Hl. Messe  in der Pfarrkirche
DESCRIPTION:
URL:https://kath-luebben.de/veranstaltungen/hl-messe-in-der-pfarrkirche-218
LOCATION:St. Trinitas Lübben\, Am kleinen Hain 28\, Lübben (Spreewald)\, Brandenburg\, 15907\, Deutschland
CATEGORIES:Hl. Messe
END:VEVENT
BEGIN:VEVENT
DTSTART;TZID=Europe/Helsinki:20250316T083000
DTEND;TZID=Europe/Helsinki:20250316T093000
DTSTAMP:20260423T132722
CREATED:20250309T080014Z
LAST-MODIFIED:20250309T080014Z
UID:4545-1742113800-1742117400@kath-luebben.de
SUMMARY:Heilige Messe in Gröditsch
DESCRIPTION:
URL:https://kath-luebben.de/veranstaltungen/heilige-messe-in-groeditsch
LOCATION:St. Mater Maria Gröditsch\, Gröditscher Dorfstr. 10a\, Märkische Heide\, Brandenburg\, 15913\, Deutschland
CATEGORIES:Hl. Messe,St. Mater Maria Gröditsch
END:VEVENT
BEGIN:VEVENT
DTSTART;TZID=Europe/Helsinki:20250316T100000
DTEND;TZID=Europe/Helsinki:20250316T110000
DTSTAMP:20260423T132722
CREATED:20250309T080033Z
LAST-MODIFIED:20250309T080033Z
UID:4547-1742119200-1742122800@kath-luebben.de
SUMMARY:Hl. Messe  in der Pfarrkirche
DESCRIPTION:
URL:https://kath-luebben.de/veranstaltungen/hl-messe-in-der-pfarrkirche-219
LOCATION:St. Trinitas Lübben\, Am kleinen Hain 28\, Lübben (Spreewald)\, Brandenburg\, 15907\, Deutschland
CATEGORIES:Hl. Messe
END:VEVENT
BEGIN:VEVENT
DTSTART;TZID=Europe/Helsinki:20250328T183000
DTEND;TZID=Europe/Helsinki:20250328T190000
DTSTAMP:20260423T132722
CREATED:20250327T163900Z
LAST-MODIFIED:20250327T163900Z
UID:4560-1743186600-1743188400@kath-luebben.de
SUMMARY:Kreuzwegandacht
DESCRIPTION:
URL:https://kath-luebben.de/veranstaltungen/kreuzwegandacht-11
LOCATION:St. Trinitas Lübben\, Am kleinen Hain 28\, Lübben (Spreewald)\, Brandenburg\, 15907\, Deutschland
CATEGORIES:Anbetung,Andacht,St. Trinitas Lübben
END:VEVENT
BEGIN:VEVENT
DTSTART;TZID=Europe/Helsinki:20250328T190000
DTEND;TZID=Europe/Helsinki:20250328T193000
DTSTAMP:20260423T132722
CREATED:20250327T163922Z
LAST-MODIFIED:20250327T163922Z
UID:4562-1743188400-1743190200@kath-luebben.de
SUMMARY:Hl. Messe  in der Pfarrkirche
DESCRIPTION:
URL:https://kath-luebben.de/veranstaltungen/hl-messe-in-der-pfarrkirche-220
LOCATION:St. Trinitas Lübben\, Am kleinen Hain 28\, Lübben (Spreewald)\, Brandenburg\, 15907\, Deutschland
CATEGORIES:Hl. Messe
END:VEVENT
BEGIN:VEVENT
DTSTART;TZID=Europe/Helsinki:20250329T170000
DTEND;TZID=Europe/Helsinki:20250329T180000
DTSTAMP:20260423T132722
CREATED:20250327T163945Z
LAST-MODIFIED:20250327T164015Z
UID:4564-1743267600-1743271200@kath-luebben.de
SUMMARY:Heilige Messe in Schwerin
DESCRIPTION:
URL:https://kath-luebben.de/veranstaltungen/heilige-messe-in-schwerin-18
LOCATION:St. Maria Stella Matutina Schwerin\, Teupitzer Str. 49\, Schwerin\, Brandenburg\, 15755\, Deutschland
CATEGORIES:Hl. Messe,St. Maria Stella Matutina Schwerin
END:VEVENT
BEGIN:VEVENT
DTSTART;TZID=Europe/Helsinki:20250330T083000
DTEND;TZID=Europe/Helsinki:20250330T093000
DTSTAMP:20260423T132722
CREATED:20250327T164003Z
LAST-MODIFIED:20250327T164003Z
UID:4566-1743323400-1743327000@kath-luebben.de
SUMMARY:Heilige Messe in Gröditsch
DESCRIPTION:
URL:https://kath-luebben.de/veranstaltungen/heilige-messe-in-groeditsch-2
LOCATION:St. Mater Maria Gröditsch\, Gröditscher Dorfstr. 10a\, Märkische Heide\, Brandenburg\, 15913\, Deutschland
CATEGORIES:Hl. Messe,St. Mater Maria Gröditsch
END:VEVENT
BEGIN:VEVENT
DTSTART;TZID=Europe/Helsinki:20250330T100000
DTEND;TZID=Europe/Helsinki:20250330T110000
DTSTAMP:20260423T132722
CREATED:20250327T164033Z
LAST-MODIFIED:20250327T164033Z
UID:4568-1743328800-1743332400@kath-luebben.de
SUMMARY:Hl. Messe  in der Pfarrkirche
DESCRIPTION:
URL:https://kath-luebben.de/veranstaltungen/hl-messe-in-der-pfarrkirche-221
LOCATION:St. Trinitas Lübben\, Am kleinen Hain 28\, Lübben (Spreewald)\, Brandenburg\, 15907\, Deutschland
CATEGORIES:Hl. Messe
END:VEVENT
BEGIN:VEVENT
DTSTART;TZID=Europe/Helsinki:20250330T110000
DTEND;TZID=Europe/Helsinki:20250330T120000
DTSTAMP:20260423T132722
CREATED:20250327T164831Z
LAST-MODIFIED:20250327T164831Z
UID:4591-1743332400-1743336000@kath-luebben.de
SUMMARY:Fastenessen
DESCRIPTION:Nach der 10.00 Uhr Messe
URL:https://kath-luebben.de/veranstaltungen/fastenessen-3
LOCATION:St. Trinitas Lübben (Pfarrsaal)\, Am kleinen Hain 28\, Lübben (Spreewald)\, Brandenburg\, 15907\, Deutschland
END:VEVENT
END:VCALENDAR