BEGIN:VCALENDAR
VERSION:2.0
PRODID:-//Kath-Luebben.de - ECPv6.15.14//NONSGML v1.0//EN
CALSCALE:GREGORIAN
METHOD:PUBLISH
X-ORIGINAL-URL:https://kath-luebben.de
X-WR-CALDESC:Veranstaltungen für Kath-Luebben.de
REFRESH-INTERVAL;VALUE=DURATION:PT1H
X-Robots-Tag:noindex
X-PUBLISHED-TTL:PT1H
BEGIN:VTIMEZONE
TZID:Europe/Helsinki
BEGIN:DAYLIGHT
TZOFFSETFROM:+0200
TZOFFSETTO:+0300
TZNAME:EEST
DTSTART:20240331T010000
END:DAYLIGHT
BEGIN:STANDARD
TZOFFSETFROM:+0300
TZOFFSETTO:+0200
TZNAME:EET
DTSTART:20241027T010000
END:STANDARD
BEGIN:DAYLIGHT
TZOFFSETFROM:+0200
TZOFFSETTO:+0300
TZNAME:EEST
DTSTART:20250330T010000
END:DAYLIGHT
BEGIN:STANDARD
TZOFFSETFROM:+0300
TZOFFSETTO:+0200
TZNAME:EET
DTSTART:20251026T010000
END:STANDARD
BEGIN:DAYLIGHT
TZOFFSETFROM:+0200
TZOFFSETTO:+0300
TZNAME:EEST
DTSTART:20260329T010000
END:DAYLIGHT
BEGIN:STANDARD
TZOFFSETFROM:+0300
TZOFFSETTO:+0200
TZNAME:EET
DTSTART:20261025T010000
END:STANDARD
END:VTIMEZONE
BEGIN:VEVENT
DTSTART;TZID=Europe/Helsinki:20250201T170000
DTEND;TZID=Europe/Helsinki:20250201T180000
DTSTAMP:20260420T015247
CREATED:20250109T201650Z
LAST-MODIFIED:20250109T201650Z
UID:4427-1738429200-1738432800@kath-luebben.de
SUMMARY:Wortgottesfeier in Schwerin
DESCRIPTION:
URL:https://kath-luebben.de/veranstaltungen/wortgottesfeier-in-schwerin-18
LOCATION:St. Maria Stella Matutina Schwerin\, Teupitzer Str. 49\, Schwerin\, Brandenburg\, 15755\, Deutschland
CATEGORIES:Hl. Messe,St. Maria Stella Matutina Schwerin
END:VEVENT
BEGIN:VEVENT
DTSTART;TZID=Europe/Helsinki:20250202T083000
DTEND;TZID=Europe/Helsinki:20250202T093000
DTSTAMP:20260420T015247
CREATED:20250109T201405Z
LAST-MODIFIED:20250109T201405Z
UID:4415-1738485000-1738488600@kath-luebben.de
SUMMARY:Wortgottesfeier in Gröditsch
DESCRIPTION:
URL:https://kath-luebben.de/veranstaltungen/wortgottesfeier-in-groeditsch-47
LOCATION:St. Mater Maria Gröditsch\, Gröditscher Dorfstr. 10a\, Märkische Heide\, Brandenburg\, 15913\, Deutschland
CATEGORIES:Hl. Messe,St. Mater Maria Gröditsch
END:VEVENT
BEGIN:VEVENT
DTSTART;TZID=Europe/Helsinki:20250202T090000
DTEND;TZID=Europe/Helsinki:20250202T100000
DTSTAMP:20260420T015247
CREATED:20250109T201943Z
LAST-MODIFIED:20250109T201943Z
UID:4441-1738486800-1738490400@kath-luebben.de
SUMMARY:Hl. Messe  in der Pfarrkirche
DESCRIPTION:
URL:https://kath-luebben.de/veranstaltungen/hl-messe-in-der-pfarrkirche-207
LOCATION:St. Trinitas Lübben\, Am kleinen Hain 28\, Lübben (Spreewald)\, Brandenburg\, 15907\, Deutschland
CATEGORIES:Hl. Messe
END:VEVENT
BEGIN:VEVENT
DTSTART;TZID=Europe/Helsinki:20250205T083000
DTEND;TZID=Europe/Helsinki:20250205T090000
DTSTAMP:20260420T015247
CREATED:20250109T200921Z
LAST-MODIFIED:20250109T200921Z
UID:4389-1738744200-1738746000@kath-luebben.de
SUMMARY:Rosenkranz  in der Pfarrkirche
DESCRIPTION:
URL:https://kath-luebben.de/veranstaltungen/rosenkranz-in-der-pfarrkirche-43
LOCATION:St. Trinitas Lübben\, Am kleinen Hain 28\, Lübben (Spreewald)\, Brandenburg\, 15907\, Deutschland
CATEGORIES:Rosenkranz / Beichtgelegenheit,St. Trinitas Lübben
END:VEVENT
BEGIN:VEVENT
DTSTART;TZID=Europe/Helsinki:20250205T090000
DTEND;TZID=Europe/Helsinki:20250205T093000
DTSTAMP:20260420T015247
CREATED:20250109T201238Z
LAST-MODIFIED:20250109T201238Z
UID:4407-1738746000-1738747800@kath-luebben.de
SUMMARY:Wortgottesfeier in der Pfarrkirche
DESCRIPTION:
URL:https://kath-luebben.de/veranstaltungen/wortgottesfeier-in-der-pfarrkirche-22
LOCATION:St. Trinitas Lübben\, Am kleinen Hain 28\, Lübben (Spreewald)\, Brandenburg\, 15907\, Deutschland
CATEGORIES:Hl. Messe
END:VEVENT
BEGIN:VEVENT
DTSTART;TZID=Europe/Helsinki:20250208T170000
DTEND;TZID=Europe/Helsinki:20250208T180000
DTSTAMP:20260420T015247
CREATED:20250109T201708Z
LAST-MODIFIED:20250109T201708Z
UID:4429-1739034000-1739037600@kath-luebben.de
SUMMARY:Wortgottesfeier in Schwerin
DESCRIPTION:
URL:https://kath-luebben.de/veranstaltungen/wortgottesfeier-in-schwerin-19
LOCATION:St. Maria Stella Matutina Schwerin\, Teupitzer Str. 49\, Schwerin\, Brandenburg\, 15755\, Deutschland
CATEGORIES:Hl. Messe,St. Maria Stella Matutina Schwerin
END:VEVENT
BEGIN:VEVENT
DTSTART;TZID=Europe/Helsinki:20250209T083000
DTEND;TZID=Europe/Helsinki:20250209T093000
DTSTAMP:20260420T015247
CREATED:20250109T201425Z
LAST-MODIFIED:20250109T201425Z
UID:4417-1739089800-1739093400@kath-luebben.de
SUMMARY:Wortgottesfeier in Gröditsch
DESCRIPTION:
URL:https://kath-luebben.de/veranstaltungen/wortgottesfeier-in-groeditsch-48
LOCATION:St. Mater Maria Gröditsch\, Gröditscher Dorfstr. 10a\, Märkische Heide\, Brandenburg\, 15913\, Deutschland
CATEGORIES:Hl. Messe,St. Mater Maria Gröditsch
END:VEVENT
BEGIN:VEVENT
DTSTART;TZID=Europe/Helsinki:20250209T090000
DTEND;TZID=Europe/Helsinki:20250209T100000
DTSTAMP:20260420T015247
CREATED:20250109T201926Z
LAST-MODIFIED:20250109T201926Z
UID:4439-1739091600-1739095200@kath-luebben.de
SUMMARY:Hl. Messe  in der Pfarrkirche
DESCRIPTION:
URL:https://kath-luebben.de/veranstaltungen/hl-messe-in-der-pfarrkirche-206
LOCATION:St. Trinitas Lübben\, Am kleinen Hain 28\, Lübben (Spreewald)\, Brandenburg\, 15907\, Deutschland
CATEGORIES:Hl. Messe
END:VEVENT
BEGIN:VEVENT
DTSTART;TZID=Europe/Helsinki:20250212T083000
DTEND;TZID=Europe/Helsinki:20250212T090000
DTSTAMP:20260420T015247
CREATED:20250109T200935Z
LAST-MODIFIED:20250109T200935Z
UID:4391-1739349000-1739350800@kath-luebben.de
SUMMARY:Rosenkranz  in der Pfarrkirche
DESCRIPTION:
URL:https://kath-luebben.de/veranstaltungen/rosenkranz-in-der-pfarrkirche-44
LOCATION:St. Trinitas Lübben\, Am kleinen Hain 28\, Lübben (Spreewald)\, Brandenburg\, 15907\, Deutschland
CATEGORIES:Rosenkranz / Beichtgelegenheit,St. Trinitas Lübben
END:VEVENT
BEGIN:VEVENT
DTSTART;TZID=Europe/Helsinki:20250212T090000
DTEND;TZID=Europe/Helsinki:20250212T093000
DTSTAMP:20260420T015247
CREATED:20250109T201255Z
LAST-MODIFIED:20250109T201255Z
UID:4409-1739350800-1739352600@kath-luebben.de
SUMMARY:Wortgottesfeier in der Pfarrkirche
DESCRIPTION:
URL:https://kath-luebben.de/veranstaltungen/wortgottesfeier-in-der-pfarrkirche-23
LOCATION:St. Trinitas Lübben\, Am kleinen Hain 28\, Lübben (Spreewald)\, Brandenburg\, 15907\, Deutschland
CATEGORIES:Hl. Messe
END:VEVENT
BEGIN:VEVENT
DTSTART;TZID=Europe/Helsinki:20250214T183000
DTEND;TZID=Europe/Helsinki:20250214T190000
DTSTAMP:20260420T015247
CREATED:20250109T201101Z
LAST-MODIFIED:20250109T201101Z
UID:4399-1739557800-1739559600@kath-luebben.de
SUMMARY:Anbetung in der Pfarrkirche
DESCRIPTION:eine halbe stunde in der stille vor dem Allerheiligsten…..
URL:https://kath-luebben.de/veranstaltungen/anbetung-in-der-pfarrkirche-35
LOCATION:St. Trinitas Lübben\, Am kleinen Hain 28\, Lübben (Spreewald)\, Brandenburg\, 15907\, Deutschland
CATEGORIES:Anbetung,Andacht,St. Trinitas Lübben
END:VEVENT
BEGIN:VEVENT
DTSTART;TZID=Europe/Helsinki:20250214T190000
DTEND;TZID=Europe/Helsinki:20250214T193000
DTSTAMP:20260420T015247
CREATED:20250109T201119Z
LAST-MODIFIED:20250109T201119Z
UID:4401-1739559600-1739561400@kath-luebben.de
SUMMARY:Hl. Messe  in der Pfarrkirche
DESCRIPTION:
URL:https://kath-luebben.de/veranstaltungen/hl-messe-in-der-pfarrkirche-203
LOCATION:St. Trinitas Lübben\, Am kleinen Hain 28\, Lübben (Spreewald)\, Brandenburg\, 15907\, Deutschland
CATEGORIES:Hl. Messe
END:VEVENT
BEGIN:VEVENT
DTSTART;TZID=Europe/Helsinki:20250215T170000
DTEND;TZID=Europe/Helsinki:20250215T180000
DTSTAMP:20260420T015247
CREATED:20250109T201722Z
LAST-MODIFIED:20250109T201722Z
UID:4431-1739638800-1739642400@kath-luebben.de
SUMMARY:Heilige Messe in Schwerin
DESCRIPTION:
URL:https://kath-luebben.de/veranstaltungen/heilige-messe-in-schwerin-15
LOCATION:St. Maria Stella Matutina Schwerin\, Teupitzer Str. 49\, Schwerin\, Brandenburg\, 15755\, Deutschland
CATEGORIES:Hl. Messe,St. Maria Stella Matutina Schwerin
END:VEVENT
BEGIN:VEVENT
DTSTART;TZID=Europe/Helsinki:20250216T083000
DTEND;TZID=Europe/Helsinki:20250216T093000
DTSTAMP:20260420T015247
CREATED:20250109T201444Z
LAST-MODIFIED:20250109T201444Z
UID:4419-1739694600-1739698200@kath-luebben.de
SUMMARY:Hl. Messe in Gröditsch
DESCRIPTION:
URL:https://kath-luebben.de/veranstaltungen/hl-messe-in-groeditsch-34
LOCATION:St. Mater Maria Gröditsch\, Gröditscher Dorfstr. 10a\, Märkische Heide\, Brandenburg\, 15913\, Deutschland
CATEGORIES:Hl. Messe,St. Mater Maria Gröditsch
END:VEVENT
BEGIN:VEVENT
DTSTART;TZID=Europe/Helsinki:20250216T100000
DTEND;TZID=Europe/Helsinki:20250216T110000
DTSTAMP:20260420T015247
CREATED:20250109T201902Z
LAST-MODIFIED:20250109T201902Z
UID:4437-1739700000-1739703600@kath-luebben.de
SUMMARY:Hl. Messe  in der Pfarrkirche
DESCRIPTION:
URL:https://kath-luebben.de/veranstaltungen/hl-messe-in-der-pfarrkirche-205
LOCATION:St. Trinitas Lübben\, Am kleinen Hain 28\, Lübben (Spreewald)\, Brandenburg\, 15907\, Deutschland
CATEGORIES:Hl. Messe
END:VEVENT
BEGIN:VEVENT
DTSTART;TZID=Europe/Helsinki:20250221T183000
DTEND;TZID=Europe/Helsinki:20250221T190000
DTSTAMP:20260420T015247
CREATED:20250221T163518Z
LAST-MODIFIED:20250221T163518Z
UID:4471-1740162600-1740164400@kath-luebben.de
SUMMARY:Anbetung in der Pfarrkirche
DESCRIPTION:eine halbe stunde in der stille vor dem Allerheiligsten…..
URL:https://kath-luebben.de/veranstaltungen/anbetung-in-der-pfarrkirche-36
LOCATION:St. Trinitas Lübben\, Am kleinen Hain 28\, Lübben (Spreewald)\, Brandenburg\, 15907\, Deutschland
CATEGORIES:Anbetung,Andacht,St. Trinitas Lübben
END:VEVENT
BEGIN:VEVENT
DTSTART;TZID=Europe/Helsinki:20250221T190000
DTEND;TZID=Europe/Helsinki:20250221T193000
DTSTAMP:20260420T015247
CREATED:20250221T163535Z
LAST-MODIFIED:20250221T163535Z
UID:4473-1740164400-1740166200@kath-luebben.de
SUMMARY:Hl. Messe  in der Pfarrkirche
DESCRIPTION:
URL:https://kath-luebben.de/veranstaltungen/hl-messe-in-der-pfarrkirche-209
LOCATION:St. Trinitas Lübben\, Am kleinen Hain 28\, Lübben (Spreewald)\, Brandenburg\, 15907\, Deutschland
CATEGORIES:Hl. Messe
END:VEVENT
BEGIN:VEVENT
DTSTART;TZID=Europe/Helsinki:20250222T170000
DTEND;TZID=Europe/Helsinki:20250222T180000
DTSTAMP:20260420T015247
CREATED:20250221T163553Z
LAST-MODIFIED:20250228T171305Z
UID:4475-1740243600-1740247200@kath-luebben.de
SUMMARY:Heilige Messe in Schwerin
DESCRIPTION:
URL:https://kath-luebben.de/veranstaltungen/heilige-messe-in-schwerin-13
LOCATION:St. Maria Stella Matutina Schwerin\, Teupitzer Str. 49\, Schwerin\, Brandenburg\, 15755\, Deutschland
CATEGORIES:Hl. Messe,St. Maria Stella Matutina Schwerin
END:VEVENT
BEGIN:VEVENT
DTSTART;TZID=Europe/Helsinki:20250223T083000
DTEND;TZID=Europe/Helsinki:20250223T093000
DTSTAMP:20260420T015247
CREATED:20250221T163633Z
LAST-MODIFIED:20250221T163633Z
UID:4477-1740299400-1740303000@kath-luebben.de
SUMMARY:Hl. Messe in Gröditsch
DESCRIPTION:
URL:https://kath-luebben.de/veranstaltungen/hl-messe-in-groeditsch-35
LOCATION:St. Mater Maria Gröditsch\, Gröditscher Dorfstr. 10a\, Märkische Heide\, Brandenburg\, 15913\, Deutschland
CATEGORIES:Hl. Messe,St. Mater Maria Gröditsch
END:VEVENT
BEGIN:VEVENT
DTSTART;TZID=Europe/Helsinki:20250223T100000
DTEND;TZID=Europe/Helsinki:20250223T110000
DTSTAMP:20260420T015247
CREATED:20250221T163652Z
LAST-MODIFIED:20250221T163652Z
UID:4479-1740304800-1740308400@kath-luebben.de
SUMMARY:Hl. Messe  in der Pfarrkirche
DESCRIPTION:
URL:https://kath-luebben.de/veranstaltungen/hl-messe-in-der-pfarrkirche-210
LOCATION:St. Trinitas Lübben\, Am kleinen Hain 28\, Lübben (Spreewald)\, Brandenburg\, 15907\, Deutschland
CATEGORIES:Hl. Messe
END:VEVENT
BEGIN:VEVENT
DTSTART;TZID=Europe/Helsinki:20250225T143000
DTEND;TZID=Europe/Helsinki:20250225T160000
DTSTAMP:20260420T015247
CREATED:20250221T164223Z
LAST-MODIFIED:20250221T164223Z
UID:4499-1740493800-1740499200@kath-luebben.de
SUMMARY:Religionsunterricht Klasse 2-3 (Sakramentengruppe)
DESCRIPTION:
URL:https://kath-luebben.de/veranstaltungen/religionsunterricht-klasse-2-3-sakramentengruppe-3
LOCATION:St. Trinitas Lübben\, Am kleinen Hain 28\, Lübben (Spreewald)\, Brandenburg\, 15907\, Deutschland
CATEGORIES:Religionsunterricht,Religionsunterricht Klasse 2-4 (Sakramentengruppe),St. Trinitas Lübben
END:VEVENT
BEGIN:VEVENT
DTSTART;TZID=Europe/Helsinki:20250226T083000
DTEND;TZID=Europe/Helsinki:20250226T090000
DTSTAMP:20260420T015247
CREATED:20250221T163716Z
LAST-MODIFIED:20250221T163716Z
UID:4481-1740558600-1740560400@kath-luebben.de
SUMMARY:Rosenkranz  in der Pfarrkirche
DESCRIPTION:
URL:https://kath-luebben.de/veranstaltungen/rosenkranz-in-der-pfarrkirche-45
LOCATION:St. Trinitas Lübben\, Am kleinen Hain 28\, Lübben (Spreewald)\, Brandenburg\, 15907\, Deutschland
CATEGORIES:Rosenkranz / Beichtgelegenheit,St. Trinitas Lübben
END:VEVENT
BEGIN:VEVENT
DTSTART;TZID=Europe/Helsinki:20250226T090000
DTEND;TZID=Europe/Helsinki:20250226T093000
DTSTAMP:20260420T015247
CREATED:20250221T163750Z
LAST-MODIFIED:20250221T163750Z
UID:4483-1740560400-1740562200@kath-luebben.de
SUMMARY:Hl. Messe in der Pfarrkirche
DESCRIPTION:
URL:https://kath-luebben.de/veranstaltungen/hl-messe-in-der-pfarrkirche-211
LOCATION:St. Trinitas Lübben\, Am kleinen Hain 28\, Lübben (Spreewald)\, Brandenburg\, 15907\, Deutschland
CATEGORIES:Hl. Messe
END:VEVENT
BEGIN:VEVENT
DTSTART;TZID=Europe/Helsinki:20250226T093000
DTEND;TZID=Europe/Helsinki:20250226T130000
DTSTAMP:20260420T015247
CREATED:20250221T164126Z
LAST-MODIFIED:20250221T164126Z
UID:4497-1740562200-1740574800@kath-luebben.de
SUMMARY:Seniorenfasching
DESCRIPTION:Für alle\, die Vormittag Zeit haben. \nKeine Kosten\, viel Spaß
URL:https://kath-luebben.de/veranstaltungen/seniorenfasching-2
LOCATION:Brandenburg
CATEGORIES:Feier
END:VEVENT
BEGIN:VEVENT
DTSTART;TZID=Europe/Helsinki:20250228T183000
DTEND;TZID=Europe/Helsinki:20250228T190000
DTSTAMP:20260420T015247
CREATED:20250221T163820Z
LAST-MODIFIED:20250221T163820Z
UID:4485-1740767400-1740769200@kath-luebben.de
SUMMARY:Anbetung in der Pfarrkirche
DESCRIPTION:eine halbe stunde in der stille vor dem Allerheiligsten…..
URL:https://kath-luebben.de/veranstaltungen/anbetung-in-der-pfarrkirche-37
LOCATION:St. Trinitas Lübben\, Am kleinen Hain 28\, Lübben (Spreewald)\, Brandenburg\, 15907\, Deutschland
CATEGORIES:Anbetung,Andacht,St. Trinitas Lübben
END:VEVENT
BEGIN:VEVENT
DTSTART;TZID=Europe/Helsinki:20250228T190000
DTEND;TZID=Europe/Helsinki:20250228T193000
DTSTAMP:20260420T015247
CREATED:20250221T163835Z
LAST-MODIFIED:20250221T163835Z
UID:4487-1740769200-1740771000@kath-luebben.de
SUMMARY:Hl. Messe  in der Pfarrkirche
DESCRIPTION:
URL:https://kath-luebben.de/veranstaltungen/hl-messe-in-der-pfarrkirche-212
LOCATION:St. Trinitas Lübben\, Am kleinen Hain 28\, Lübben (Spreewald)\, Brandenburg\, 15907\, Deutschland
CATEGORIES:Hl. Messe
END:VEVENT
END:VCALENDAR