BEGIN:VCALENDAR
VERSION:2.0
PRODID:-//Kath-Luebben.de - ECPv6.15.14//NONSGML v1.0//EN
CALSCALE:GREGORIAN
METHOD:PUBLISH
X-ORIGINAL-URL:https://kath-luebben.de
X-WR-CALDESC:Veranstaltungen für Kath-Luebben.de
REFRESH-INTERVAL;VALUE=DURATION:PT1H
X-Robots-Tag:noindex
X-PUBLISHED-TTL:PT1H
BEGIN:VTIMEZONE
TZID:Europe/Helsinki
BEGIN:DAYLIGHT
TZOFFSETFROM:+0200
TZOFFSETTO:+0300
TZNAME:EEST
DTSTART:20230326T010000
END:DAYLIGHT
BEGIN:STANDARD
TZOFFSETFROM:+0300
TZOFFSETTO:+0200
TZNAME:EET
DTSTART:20231029T010000
END:STANDARD
BEGIN:DAYLIGHT
TZOFFSETFROM:+0200
TZOFFSETTO:+0300
TZNAME:EEST
DTSTART:20240331T010000
END:DAYLIGHT
BEGIN:STANDARD
TZOFFSETFROM:+0300
TZOFFSETTO:+0200
TZNAME:EET
DTSTART:20241027T010000
END:STANDARD
BEGIN:DAYLIGHT
TZOFFSETFROM:+0200
TZOFFSETTO:+0300
TZNAME:EEST
DTSTART:20250330T010000
END:DAYLIGHT
BEGIN:STANDARD
TZOFFSETFROM:+0300
TZOFFSETTO:+0200
TZNAME:EET
DTSTART:20251026T010000
END:STANDARD
END:VTIMEZONE
BEGIN:VEVENT
DTSTART;TZID=Europe/Helsinki:20241201T083000
DTEND;TZID=Europe/Helsinki:20241201T093000
DTSTAMP:20260422T134125
CREATED:20241123T091154Z
LAST-MODIFIED:20241123T091154Z
UID:4185-1733041800-1733045400@kath-luebben.de
SUMMARY:Hl. Messe in Gröditsch
DESCRIPTION:
URL:https://kath-luebben.de/veranstaltungen/hl-messe-in-groeditsch-29
LOCATION:St. Mater Maria Gröditsch\, Gröditscher Dorfstr. 10a\, Märkische Heide\, Brandenburg\, 15913\, Deutschland
CATEGORIES:Hl. Messe,St. Mater Maria Gröditsch
END:VEVENT
BEGIN:VEVENT
DTSTART;TZID=Europe/Helsinki:20241201T100000
DTEND;TZID=Europe/Helsinki:20241201T110000
DTSTAMP:20260422T134125
CREATED:20241123T091219Z
LAST-MODIFIED:20241123T091219Z
UID:4187-1733047200-1733050800@kath-luebben.de
SUMMARY:Hl. Messe  in der Pfarrkirche
DESCRIPTION:
URL:https://kath-luebben.de/veranstaltungen/hl-messe-in-der-pfarrkirche-181
LOCATION:St. Trinitas Lübben\, Am kleinen Hain 28\, Lübben (Spreewald)\, Brandenburg\, 15907\, Deutschland
CATEGORIES:Hl. Messe
END:VEVENT
BEGIN:VEVENT
DTSTART;TZID=Europe/Helsinki:20241201T100000
DTEND;TZID=Europe/Helsinki:20241201T120000
DTSTAMP:20260422T134125
CREATED:20241123T091509Z
LAST-MODIFIED:20241123T091509Z
UID:4195-1733047200-1733054400@kath-luebben.de
SUMMARY:Familiensonntag
DESCRIPTION:Am diesem Sonntag sind besonders die jungen Familien zum Familiensonntag eingeladen. Im Anschluss an die Hl. Messe werden wir bei Katechese\, Spiel und Essen Zeit miteinander verbringen.
URL:https://kath-luebben.de/veranstaltungen/familiensonntag-2
LOCATION:Brandenburg
END:VEVENT
BEGIN:VEVENT
DTSTART;TZID=Europe/Helsinki:20241203T060000
DTEND;TZID=Europe/Helsinki:20241203T070000
DTSTAMP:20260422T134125
CREATED:20241128T172031Z
LAST-MODIFIED:20241128T172031Z
UID:4197-1733205600-1733209200@kath-luebben.de
SUMMARY:Roratemesse
DESCRIPTION:
URL:https://kath-luebben.de/veranstaltungen/roratemesse-7
LOCATION:St. Trinitas Lübben\, Am kleinen Hain 28\, Lübben (Spreewald)\, Brandenburg\, 15907\, Deutschland
CATEGORIES:Roratemesse,St. Trinitas Lübben
END:VEVENT
BEGIN:VEVENT
DTSTART;TZID=Europe/Helsinki:20241203T143000
DTEND;TZID=Europe/Helsinki:20241203T160000
DTSTAMP:20260422T134125
CREATED:20241128T172636Z
LAST-MODIFIED:20241128T172636Z
UID:4217-1733236200-1733241600@kath-luebben.de
SUMMARY:Religionsunterricht Klasse 2-3 (Sakramentengruppe)
DESCRIPTION:
URL:https://kath-luebben.de/veranstaltungen/religionsunterricht-klasse-2-3-sakramentengruppe-2
LOCATION:St. Trinitas Lübben\, Am kleinen Hain 28\, Lübben (Spreewald)\, Brandenburg\, 15907\, Deutschland
CATEGORIES:Religionsunterricht,Religionsunterricht Klasse 2-4 (Sakramentengruppe),St. Trinitas Lübben
END:VEVENT
BEGIN:VEVENT
DTSTART;TZID=Europe/Helsinki:20241203T143000
DTEND;TZID=Europe/Helsinki:20241203T163000
DTSTAMP:20260422T134125
CREATED:20241128T172719Z
LAST-MODIFIED:20241128T172719Z
UID:4219-1733236200-1733243400@kath-luebben.de
SUMMARY:Spielnachmittag für Erwachsene
DESCRIPTION:
URL:https://kath-luebben.de/veranstaltungen/spielnachmittag-fuer-erwachsene-2
LOCATION:St. Trinitas Lübben (Pfarrhaus)\, Am kleinen Hain 28\, Lübben (Spreewald)\, Brandenburg\, 15907\, Deutschland
END:VEVENT
BEGIN:VEVENT
DTSTART;TZID=Europe/Helsinki:20241204T083000
DTEND;TZID=Europe/Helsinki:20241204T090000
DTSTAMP:20260422T134125
CREATED:20241128T172207Z
LAST-MODIFIED:20241128T172207Z
UID:4203-1733301000-1733302800@kath-luebben.de
SUMMARY:Rosenkranz  in der Pfarrkirche
DESCRIPTION:
URL:https://kath-luebben.de/veranstaltungen/rosenkranz-in-der-pfarrkirche-36
LOCATION:St. Trinitas Lübben\, Am kleinen Hain 28\, Lübben (Spreewald)\, Brandenburg\, 15907\, Deutschland
CATEGORIES:Rosenkranz / Beichtgelegenheit,St. Trinitas Lübben
END:VEVENT
BEGIN:VEVENT
DTSTART;TZID=Europe/Helsinki:20241204T090000
DTEND;TZID=Europe/Helsinki:20241204T093000
DTSTAMP:20260422T134125
CREATED:20241128T172225Z
LAST-MODIFIED:20241128T172225Z
UID:4205-1733302800-1733304600@kath-luebben.de
SUMMARY:Hl. Messe in der Pfarrkirche
DESCRIPTION:
URL:https://kath-luebben.de/veranstaltungen/hl-messe-in-der-pfarrkirche-182
LOCATION:St. Trinitas Lübben\, Am kleinen Hain 28\, Lübben (Spreewald)\, Brandenburg\, 15907\, Deutschland
CATEGORIES:Hl. Messe
END:VEVENT
BEGIN:VEVENT
DTSTART;TZID=Europe/Helsinki:20241204T193000
DTEND;TZID=Europe/Helsinki:20241204T213000
DTSTAMP:20260422T134125
CREATED:20241128T172821Z
LAST-MODIFIED:20241128T172821Z
UID:4221-1733340600-1733347800@kath-luebben.de
SUMMARY:Pfarreirat
DESCRIPTION:
URL:https://kath-luebben.de/veranstaltungen/pfarreirat-5
LOCATION:St. Trinitas Lübben (Pfarrsaal)\, Am kleinen Hain 28\, Lübben (Spreewald)\, Brandenburg\, 15907\, Deutschland
END:VEVENT
BEGIN:VEVENT
DTSTART;TZID=Europe/Helsinki:20241206T183000
DTEND;TZID=Europe/Helsinki:20241206T190000
DTSTAMP:20260422T134125
CREATED:20241128T172452Z
LAST-MODIFIED:20241128T172452Z
UID:4209-1733509800-1733511600@kath-luebben.de
SUMMARY:Anbetung in der Pfarrkirche
DESCRIPTION:eine halbe stunde in der stille vor dem Allerheiligsten…..
URL:https://kath-luebben.de/veranstaltungen/anbetung-in-der-pfarrkirche-32
LOCATION:St. Trinitas Lübben\, Am kleinen Hain 28\, Lübben (Spreewald)\, Brandenburg\, 15907\, Deutschland
CATEGORIES:Anbetung,Andacht,St. Trinitas Lübben
END:VEVENT
BEGIN:VEVENT
DTSTART;TZID=Europe/Helsinki:20241206T190000
DTEND;TZID=Europe/Helsinki:20241206T193000
DTSTAMP:20260422T134125
CREATED:20241128T172424Z
LAST-MODIFIED:20241128T172424Z
UID:4207-1733511600-1733513400@kath-luebben.de
SUMMARY:Hl. Messe in der Pfarrkirche
DESCRIPTION:
URL:https://kath-luebben.de/veranstaltungen/hl-messe-in-der-pfarrkirche-183
LOCATION:St. Trinitas Lübben\, Am kleinen Hain 28\, Lübben (Spreewald)\, Brandenburg\, 15907\, Deutschland
CATEGORIES:Hl. Messe
END:VEVENT
BEGIN:VEVENT
DTSTART;TZID=Europe/Helsinki:20241206T193000
DTEND;TZID=Europe/Helsinki:20241206T210000
DTSTAMP:20260422T134125
CREATED:20241128T172930Z
LAST-MODIFIED:20241128T172930Z
UID:4223-1733513400-1733518800@kath-luebben.de
SUMMARY:Glaubensabend/ Nikolausabend für Erwachsene
DESCRIPTION:Wir laden ein zum Glaubensgespräch für Erwachsene in St. Trinitas
URL:https://kath-luebben.de/veranstaltungen/glaubensabend-nikolausabend-fuer-erwachsene
LOCATION:St. Trinitas Lübben (Pfarrsaal)\, Am kleinen Hain 28\, Lübben (Spreewald)\, Brandenburg\, 15907\, Deutschland
CATEGORIES:Glaubensabend,Glaubensgespräch,St. Trinitas Lübben
END:VEVENT
BEGIN:VEVENT
DTSTART;TZID=Europe/Helsinki:20241207T170000
DTEND;TZID=Europe/Helsinki:20241207T180000
DTSTAMP:20260422T134125
CREATED:20241128T172518Z
LAST-MODIFIED:20241128T172518Z
UID:4211-1733590800-1733594400@kath-luebben.de
SUMMARY:Heilige Messe in Schwerin
DESCRIPTION:
URL:https://kath-luebben.de/veranstaltungen/heilige-messe-in-schwerin-7
LOCATION:St. Maria Stella Matutina Schwerin\, Teupitzer Str. 49\, Schwerin\, Brandenburg\, 15755\, Deutschland
CATEGORIES:Hl. Messe,St. Maria Stella Matutina Schwerin
END:VEVENT
BEGIN:VEVENT
DTSTART;TZID=Europe/Helsinki:20241208T083000
DTEND;TZID=Europe/Helsinki:20241208T093000
DTSTAMP:20260422T134125
CREATED:20241128T172538Z
LAST-MODIFIED:20241128T172538Z
UID:4213-1733646600-1733650200@kath-luebben.de
SUMMARY:Wortgottesfeier in Gröditsch
DESCRIPTION:
URL:https://kath-luebben.de/veranstaltungen/wortgottesfeier-in-groeditsch-43
LOCATION:St. Mater Maria Gröditsch\, Gröditscher Dorfstr. 10a\, Märkische Heide\, Brandenburg\, 15913\, Deutschland
CATEGORIES:Hl. Messe,St. Mater Maria Gröditsch
END:VEVENT
BEGIN:VEVENT
DTSTART;TZID=Europe/Helsinki:20241208T100000
DTEND;TZID=Europe/Helsinki:20241208T110000
DTSTAMP:20260422T134125
CREATED:20241128T172559Z
LAST-MODIFIED:20241128T172559Z
UID:4215-1733652000-1733655600@kath-luebben.de
SUMMARY:Hl. Messe  in der Pfarrkirche
DESCRIPTION:
URL:https://kath-luebben.de/veranstaltungen/hl-messe-in-der-pfarrkirche-184
LOCATION:St. Trinitas Lübben\, Am kleinen Hain 28\, Lübben (Spreewald)\, Brandenburg\, 15907\, Deutschland
CATEGORIES:Hl. Messe
END:VEVENT
BEGIN:VEVENT
DTSTART;TZID=Europe/Helsinki:20241208T100000
DTEND;TZID=Europe/Helsinki:20241208T110000
DTSTAMP:20260422T134125
CREATED:20241128T173022Z
LAST-MODIFIED:20241128T173022Z
UID:4225-1733652000-1733655600@kath-luebben.de
SUMMARY:1. Krippenspielprobe
DESCRIPTION:
URL:https://kath-luebben.de/veranstaltungen/1-krippenspielprobe
LOCATION:Brandenburg
CATEGORIES:Kindernachmittag
END:VEVENT
BEGIN:VEVENT
DTSTART;TZID=Europe/Helsinki:20241210T060000
DTEND;TZID=Europe/Helsinki:20241210T070000
DTSTAMP:20260422T134125
CREATED:20241128T172048Z
LAST-MODIFIED:20241128T172048Z
UID:4199-1733810400-1733814000@kath-luebben.de
SUMMARY:Roratemesse
DESCRIPTION:
URL:https://kath-luebben.de/veranstaltungen/roratemesse-8
LOCATION:St. Trinitas Lübben\, Am kleinen Hain 28\, Lübben (Spreewald)\, Brandenburg\, 15907\, Deutschland
CATEGORIES:Roratemesse,St. Trinitas Lübben
END:VEVENT
BEGIN:VEVENT
DTSTART;TZID=Europe/Helsinki:20241210T190000
DTEND;TZID=Europe/Helsinki:20241210T210000
DTSTAMP:20260422T134125
CREATED:20241210T060147Z
LAST-MODIFIED:20241210T060147Z
UID:4294-1733857200-1733864400@kath-luebben.de
SUMMARY:Kirchenvorstand
DESCRIPTION:nicht öffentlich..
URL:https://kath-luebben.de/veranstaltungen/kirchenvorstand-12
LOCATION:St. Trinitas Lübben (Pfarrhaus)\, Am kleinen Hain 28\, Lübben (Spreewald)\, Brandenburg\, 15907\, Deutschland
END:VEVENT
BEGIN:VEVENT
DTSTART;TZID=Europe/Helsinki:20241210T193000
DTEND;TZID=Europe/Helsinki:20241210T213000
DTSTAMP:20260422T134125
CREATED:20241210T060215Z
LAST-MODIFIED:20241210T060215Z
UID:4296-1733859000-1733866200@kath-luebben.de
SUMMARY:Judith-Gruppe (Frauentreff)
DESCRIPTION:
URL:https://kath-luebben.de/veranstaltungen/judith-gruppe-frauentreff-13
LOCATION:Brandenburg
CATEGORIES:Frauentreff,St. Trinitas Lübben
END:VEVENT
BEGIN:VEVENT
DTSTART;TZID=Europe/Helsinki:20241211T083000
DTEND;TZID=Europe/Helsinki:20241211T090000
DTSTAMP:20260422T134125
CREATED:20241210T055610Z
LAST-MODIFIED:20241210T055610Z
UID:4266-1733905800-1733907600@kath-luebben.de
SUMMARY:Rosenkranz  in der Pfarrkirche
DESCRIPTION:
URL:https://kath-luebben.de/veranstaltungen/rosenkranz-in-der-pfarrkirche-37
LOCATION:St. Trinitas Lübben\, Am kleinen Hain 28\, Lübben (Spreewald)\, Brandenburg\, 15907\, Deutschland
CATEGORIES:Rosenkranz / Beichtgelegenheit,St. Trinitas Lübben
END:VEVENT
BEGIN:VEVENT
DTSTART;TZID=Europe/Helsinki:20241211T090000
DTEND;TZID=Europe/Helsinki:20241211T093000
DTSTAMP:20260422T134125
CREATED:20241210T055645Z
LAST-MODIFIED:20241210T055645Z
UID:4270-1733907600-1733909400@kath-luebben.de
SUMMARY:Hl. Messe in der Pfarrkirche
DESCRIPTION:
URL:https://kath-luebben.de/veranstaltungen/hl-messe-in-der-pfarrkirche-185
LOCATION:St. Trinitas Lübben\, Am kleinen Hain 28\, Lübben (Spreewald)\, Brandenburg\, 15907\, Deutschland
CATEGORIES:Hl. Messe
END:VEVENT
BEGIN:VEVENT
DTSTART;TZID=Europe/Helsinki:20241211T093000
DTEND;TZID=Europe/Helsinki:20241211T120000
DTSTAMP:20260422T134125
CREATED:20241210T060253Z
LAST-MODIFIED:20241210T060253Z
UID:4298-1733909400-1733918400@kath-luebben.de
SUMMARY:Seniorenrunde
DESCRIPTION:Zur monatlichen Seniorenrunde wird ganz herzlich eingeladen.
URL:https://kath-luebben.de/veranstaltungen/seniorenrunde-12
LOCATION:St. Trinitas Lübben (Pfarrsaal)\, Am kleinen Hain 28\, Lübben (Spreewald)\, Brandenburg\, 15907\, Deutschland
CATEGORIES:Seniorenrunde,St. Trinitas Lübben
END:VEVENT
BEGIN:VEVENT
DTSTART;TZID=Europe/Helsinki:20241213T190000
DTEND;TZID=Europe/Helsinki:20241213T193000
DTSTAMP:20260422T134125
CREATED:20241210T055802Z
LAST-MODIFIED:20241210T055802Z
UID:4276-1734116400-1734118200@kath-luebben.de
SUMMARY:Hl. Messe in der Pfarrkirche
DESCRIPTION:
URL:https://kath-luebben.de/veranstaltungen/hl-messe-in-der-pfarrkirche-187
LOCATION:St. Trinitas Lübben\, Am kleinen Hain 28\, Lübben (Spreewald)\, Brandenburg\, 15907\, Deutschland
CATEGORIES:Hl. Messe
END:VEVENT
BEGIN:VEVENT
DTSTART;TZID=Europe/Helsinki:20241214T170000
DTEND;TZID=Europe/Helsinki:20241214T180000
DTSTAMP:20260422T134125
CREATED:20241210T055819Z
LAST-MODIFIED:20241210T055819Z
UID:4278-1734195600-1734199200@kath-luebben.de
SUMMARY:Heilige Messe in Schwerin
DESCRIPTION:
URL:https://kath-luebben.de/veranstaltungen/heilige-messe-in-schwerin-8
LOCATION:St. Maria Stella Matutina Schwerin\, Teupitzer Str. 49\, Schwerin\, Brandenburg\, 15755\, Deutschland
CATEGORIES:Hl. Messe,St. Maria Stella Matutina Schwerin
END:VEVENT
BEGIN:VEVENT
DTSTART;TZID=Europe/Helsinki:20241215T083000
DTEND;TZID=Europe/Helsinki:20241215T093000
DTSTAMP:20260422T134125
CREATED:20241210T055844Z
LAST-MODIFIED:20241210T055844Z
UID:4280-1734251400-1734255000@kath-luebben.de
SUMMARY:Hl. Messe in Gröditsch
DESCRIPTION:
URL:https://kath-luebben.de/veranstaltungen/hl-messe-in-groeditsch-30
LOCATION:St. Mater Maria Gröditsch\, Gröditscher Dorfstr. 10a\, Märkische Heide\, Brandenburg\, 15913\, Deutschland
CATEGORIES:Hl. Messe,St. Mater Maria Gröditsch
END:VEVENT
BEGIN:VEVENT
DTSTART;TZID=Europe/Helsinki:20241215T100000
DTEND;TZID=Europe/Helsinki:20241215T110000
DTSTAMP:20260422T134125
CREATED:20241210T055908Z
LAST-MODIFIED:20241210T055908Z
UID:4282-1734256800-1734260400@kath-luebben.de
SUMMARY:Hl. Messe  in der Pfarrkirche
DESCRIPTION:
URL:https://kath-luebben.de/veranstaltungen/hl-messe-in-der-pfarrkirche-188
LOCATION:St. Trinitas Lübben\, Am kleinen Hain 28\, Lübben (Spreewald)\, Brandenburg\, 15907\, Deutschland
CATEGORIES:Hl. Messe
END:VEVENT
BEGIN:VEVENT
DTSTART;TZID=Europe/Helsinki:20241215T113000
DTEND;TZID=Europe/Helsinki:20241215T123000
DTSTAMP:20260422T134125
CREATED:20241210T060325Z
LAST-MODIFIED:20241210T060325Z
UID:4300-1734262200-1734265800@kath-luebben.de
SUMMARY:Kirchkaffee
DESCRIPTION:Nach der  Messe in Lübben. Herzliche Einladung!
URL:https://kath-luebben.de/veranstaltungen/kirchkaffee-8
LOCATION:St. Trinitas Lübben (Pfarrsaal)\, Am kleinen Hain 28\, Lübben (Spreewald)\, Brandenburg\, 15907\, Deutschland
END:VEVENT
BEGIN:VEVENT
DTSTART;TZID=Europe/Helsinki:20241217T060000
DTEND;TZID=Europe/Helsinki:20241217T070000
DTSTAMP:20260422T134125
CREATED:20241128T172111Z
LAST-MODIFIED:20241128T172111Z
UID:4201-1734415200-1734418800@kath-luebben.de
SUMMARY:Roratemesse
DESCRIPTION:
URL:https://kath-luebben.de/veranstaltungen/roratemesse-9
LOCATION:St. Trinitas Lübben\, Am kleinen Hain 28\, Lübben (Spreewald)\, Brandenburg\, 15907\, Deutschland
CATEGORIES:Roratemesse,St. Trinitas Lübben
END:VEVENT
BEGIN:VEVENT
DTSTART;TZID=Europe/Helsinki:20241218T083000
DTEND;TZID=Europe/Helsinki:20241218T090000
DTSTAMP:20260422T134125
CREATED:20241210T055627Z
LAST-MODIFIED:20241210T055627Z
UID:4268-1734510600-1734512400@kath-luebben.de
SUMMARY:Rosenkranz  in der Pfarrkirche
DESCRIPTION:
URL:https://kath-luebben.de/veranstaltungen/rosenkranz-in-der-pfarrkirche-38
LOCATION:St. Trinitas Lübben\, Am kleinen Hain 28\, Lübben (Spreewald)\, Brandenburg\, 15907\, Deutschland
CATEGORIES:Rosenkranz / Beichtgelegenheit,St. Trinitas Lübben
END:VEVENT
BEGIN:VEVENT
DTSTART;TZID=Europe/Helsinki:20241218T090000
DTEND;TZID=Europe/Helsinki:20241218T093000
DTSTAMP:20260422T134125
CREATED:20241210T055702Z
LAST-MODIFIED:20241210T055702Z
UID:4272-1734512400-1734514200@kath-luebben.de
SUMMARY:Hl. Messe in der Pfarrkirche
DESCRIPTION:
URL:https://kath-luebben.de/veranstaltungen/hl-messe-in-der-pfarrkirche-186
LOCATION:St. Trinitas Lübben\, Am kleinen Hain 28\, Lübben (Spreewald)\, Brandenburg\, 15907\, Deutschland
CATEGORIES:Hl. Messe
END:VEVENT
END:VCALENDAR