BEGIN:VCALENDAR
VERSION:2.0
PRODID:-//Kath-Luebben.de - ECPv6.15.14//NONSGML v1.0//EN
CALSCALE:GREGORIAN
METHOD:PUBLISH
X-WR-CALNAME:Kath-Luebben.de
X-ORIGINAL-URL:https://kath-luebben.de
X-WR-CALDESC:Veranstaltungen für Kath-Luebben.de
REFRESH-INTERVAL;VALUE=DURATION:PT1H
X-Robots-Tag:noindex
X-PUBLISHED-TTL:PT1H
BEGIN:VTIMEZONE
TZID:Europe/Helsinki
BEGIN:DAYLIGHT
TZOFFSETFROM:+0200
TZOFFSETTO:+0300
TZNAME:EEST
DTSTART:20250330T010000
END:DAYLIGHT
BEGIN:STANDARD
TZOFFSETFROM:+0300
TZOFFSETTO:+0200
TZNAME:EET
DTSTART:20251026T010000
END:STANDARD
BEGIN:DAYLIGHT
TZOFFSETFROM:+0200
TZOFFSETTO:+0300
TZNAME:EEST
DTSTART:20260329T010000
END:DAYLIGHT
BEGIN:STANDARD
TZOFFSETFROM:+0300
TZOFFSETTO:+0200
TZNAME:EET
DTSTART:20261025T010000
END:STANDARD
BEGIN:DAYLIGHT
TZOFFSETFROM:+0200
TZOFFSETTO:+0300
TZNAME:EEST
DTSTART:20270328T010000
END:DAYLIGHT
BEGIN:STANDARD
TZOFFSETFROM:+0300
TZOFFSETTO:+0200
TZNAME:EET
DTSTART:20271031T010000
END:STANDARD
END:VTIMEZONE
BEGIN:VEVENT
DTSTART;TZID=Europe/Helsinki:20260506T083000
DTEND;TZID=Europe/Helsinki:20260506T090000
DTSTAMP:20260419T202008
CREATED:20260417T095450Z
LAST-MODIFIED:20260417T095450Z
UID:5873-1778056200-1778058000@kath-luebben.de
SUMMARY:Rosenkranz  in der Pfarrkirche
DESCRIPTION:
URL:https://kath-luebben.de/veranstaltungen/rosenkranz-in-der-pfarrkirche-93
LOCATION:St. Trinitas Lübben\, Am kleinen Hain 28\, Lübben (Spreewald)\, Brandenburg\, 15907\, Deutschland
CATEGORIES:Rosenkranz / Beichtgelegenheit,St. Trinitas Lübben
END:VEVENT
BEGIN:VEVENT
DTSTART;TZID=Europe/Helsinki:20260506T090000
DTEND;TZID=Europe/Helsinki:20260506T093000
DTSTAMP:20260419T202008
CREATED:20260417T095508Z
LAST-MODIFIED:20260417T095508Z
UID:5875-1778058000-1778059800@kath-luebben.de
SUMMARY:Wortgottesfeier in der Pfarrkirche
DESCRIPTION:
URL:https://kath-luebben.de/veranstaltungen/wortgottesfeier-in-der-pfarrkirche-32
LOCATION:St. Trinitas Lübben\, Am kleinen Hain 28\, Lübben (Spreewald)\, Brandenburg\, 15907\, Deutschland
CATEGORIES:Hl. Messe
END:VEVENT
END:VCALENDAR