BEGIN:VCALENDAR
VERSION:2.0
PRODID:-//Kath-Luebben.de - ECPv6.15.14//NONSGML v1.0//EN
CALSCALE:GREGORIAN
METHOD:PUBLISH
X-WR-CALNAME:Kath-Luebben.de
X-ORIGINAL-URL:https://kath-luebben.de
X-WR-CALDESC:Veranstaltungen für Kath-Luebben.de
REFRESH-INTERVAL;VALUE=DURATION:PT1H
X-Robots-Tag:noindex
X-PUBLISHED-TTL:PT1H
BEGIN:VTIMEZONE
TZID:Europe/Helsinki
BEGIN:DAYLIGHT
TZOFFSETFROM:+0200
TZOFFSETTO:+0300
TZNAME:EEST
DTSTART:20240331T010000
END:DAYLIGHT
BEGIN:STANDARD
TZOFFSETFROM:+0300
TZOFFSETTO:+0200
TZNAME:EET
DTSTART:20241027T010000
END:STANDARD
BEGIN:DAYLIGHT
TZOFFSETFROM:+0200
TZOFFSETTO:+0300
TZNAME:EEST
DTSTART:20250330T010000
END:DAYLIGHT
BEGIN:STANDARD
TZOFFSETFROM:+0300
TZOFFSETTO:+0200
TZNAME:EET
DTSTART:20251026T010000
END:STANDARD
BEGIN:DAYLIGHT
TZOFFSETFROM:+0200
TZOFFSETTO:+0300
TZNAME:EEST
DTSTART:20260329T010000
END:DAYLIGHT
BEGIN:STANDARD
TZOFFSETFROM:+0300
TZOFFSETTO:+0200
TZNAME:EET
DTSTART:20261025T010000
END:STANDARD
END:VTIMEZONE
BEGIN:VEVENT
DTSTART;TZID=Europe/Helsinki:20251126T083000
DTEND;TZID=Europe/Helsinki:20251126T090000
DTSTAMP:20260419T173100
CREATED:20251121T132138Z
LAST-MODIFIED:20251121T132138Z
UID:5307-1764145800-1764147600@kath-luebben.de
SUMMARY:Rosenkranz  in der Pfarrkirche
DESCRIPTION:
URL:https://kath-luebben.de/veranstaltungen/rosenkranz-in-der-pfarrkirche-73
LOCATION:St. Trinitas Lübben\, Am kleinen Hain 28\, Lübben (Spreewald)\, Brandenburg\, 15907\, Deutschland
CATEGORIES:Rosenkranz / Beichtgelegenheit,St. Trinitas Lübben
END:VEVENT
BEGIN:VEVENT
DTSTART;TZID=Europe/Helsinki:20251126T090000
DTEND;TZID=Europe/Helsinki:20251126T093000
DTSTAMP:20260419T173100
CREATED:20251121T132153Z
LAST-MODIFIED:20251121T132153Z
UID:5309-1764147600-1764149400@kath-luebben.de
SUMMARY:Hl. Messe in der Pfarrkirche
DESCRIPTION:
URL:https://kath-luebben.de/veranstaltungen/hl-messe-in-der-pfarrkirche-291
LOCATION:St. Trinitas Lübben\, Am kleinen Hain 28\, Lübben (Spreewald)\, Brandenburg\, 15907\, Deutschland
CATEGORIES:Hl. Messe
END:VEVENT
BEGIN:VEVENT
DTSTART;TZID=Europe/Helsinki:20251126T190000
DTEND;TZID=Europe/Helsinki:20251126T200000
DTSTAMP:20260419T173100
CREATED:20251121T132516Z
LAST-MODIFIED:20251121T132516Z
UID:5325-1764183600-1764187200@kath-luebben.de
SUMMARY:Diakonatshelfer/Küster - Treff
DESCRIPTION:
URL:https://kath-luebben.de/veranstaltungen/diakonatshelfer-kuester-treff-6
LOCATION:St. Trinitas Lübben (Pfarrsaal)\, Am kleinen Hain 28\, Lübben (Spreewald)\, Brandenburg\, 15907\, Deutschland
CATEGORIES:Treff
END:VEVENT
END:VCALENDAR