BEGIN:VCALENDAR
VERSION:2.0
PRODID:-//Kath-Luebben.de - ECPv6.15.14//NONSGML v1.0//EN
CALSCALE:GREGORIAN
METHOD:PUBLISH
X-WR-CALNAME:Kath-Luebben.de
X-ORIGINAL-URL:https://kath-luebben.de
X-WR-CALDESC:Veranstaltungen für Kath-Luebben.de
REFRESH-INTERVAL;VALUE=DURATION:PT1H
X-Robots-Tag:noindex
X-PUBLISHED-TTL:PT1H
BEGIN:VTIMEZONE
TZID:Europe/Helsinki
BEGIN:DAYLIGHT
TZOFFSETFROM:+0200
TZOFFSETTO:+0300
TZNAME:EEST
DTSTART:20240331T010000
END:DAYLIGHT
BEGIN:STANDARD
TZOFFSETFROM:+0300
TZOFFSETTO:+0200
TZNAME:EET
DTSTART:20241027T010000
END:STANDARD
BEGIN:DAYLIGHT
TZOFFSETFROM:+0200
TZOFFSETTO:+0300
TZNAME:EEST
DTSTART:20250330T010000
END:DAYLIGHT
BEGIN:STANDARD
TZOFFSETFROM:+0300
TZOFFSETTO:+0200
TZNAME:EET
DTSTART:20251026T010000
END:STANDARD
BEGIN:DAYLIGHT
TZOFFSETFROM:+0200
TZOFFSETTO:+0300
TZNAME:EEST
DTSTART:20260329T010000
END:DAYLIGHT
BEGIN:STANDARD
TZOFFSETFROM:+0300
TZOFFSETTO:+0200
TZNAME:EET
DTSTART:20261025T010000
END:STANDARD
END:VTIMEZONE
BEGIN:VEVENT
DTSTART;TZID=Europe/Helsinki:20250925T093000
DTEND;TZID=Europe/Helsinki:20250925T110000
DTSTAMP:20260423T141027
CREATED:20250919T160717Z
LAST-MODIFIED:20250919T160717Z
UID:5091-1758792600-1758798000@kath-luebben.de
SUMMARY:Hl. Messe in Straupitz (Hausgottesdienst)
DESCRIPTION:Cottbuserstr.11
URL:https://kath-luebben.de/veranstaltungen/hl-messe-in-straupitz-hausgottesdienst-12
LOCATION:Brandenburg
CATEGORIES:Hl. Messe
END:VEVENT
BEGIN:VEVENT
DTSTART;TZID=Europe/Helsinki:20250925T150000
DTEND;TZID=Europe/Helsinki:20250925T160000
DTSTAMP:20260423T141027
CREATED:20250919T160840Z
LAST-MODIFIED:20250919T160840Z
UID:5093-1758812400-1758816000@kath-luebben.de
SUMMARY:Trauerfeier für + Rudolf Schubert in Schwerin
DESCRIPTION:
URL:https://kath-luebben.de/veranstaltungen/trauerfeier-fuer-rudolf-schubert-in-schwerin
LOCATION:St. Maria Stella Matutina Schwerin\, Teupitzer Str. 49\, Schwerin\, Brandenburg\, 15755\, Deutschland
END:VEVENT
END:VCALENDAR