BEGIN:VCALENDAR
VERSION:2.0
PRODID:-//Kath-Luebben.de - ECPv6.15.14//NONSGML v1.0//EN
CALSCALE:GREGORIAN
METHOD:PUBLISH
X-ORIGINAL-URL:https://kath-luebben.de
X-WR-CALDESC:Veranstaltungen für Kath-Luebben.de
REFRESH-INTERVAL;VALUE=DURATION:PT1H
X-Robots-Tag:noindex
X-PUBLISHED-TTL:PT1H
BEGIN:VTIMEZONE
TZID:Europe/Helsinki
BEGIN:DAYLIGHT
TZOFFSETFROM:+0200
TZOFFSETTO:+0300
TZNAME:EEST
DTSTART:20240331T010000
END:DAYLIGHT
BEGIN:STANDARD
TZOFFSETFROM:+0300
TZOFFSETTO:+0200
TZNAME:EET
DTSTART:20241027T010000
END:STANDARD
BEGIN:DAYLIGHT
TZOFFSETFROM:+0200
TZOFFSETTO:+0300
TZNAME:EEST
DTSTART:20250330T010000
END:DAYLIGHT
BEGIN:STANDARD
TZOFFSETFROM:+0300
TZOFFSETTO:+0200
TZNAME:EET
DTSTART:20251026T010000
END:STANDARD
BEGIN:DAYLIGHT
TZOFFSETFROM:+0200
TZOFFSETTO:+0300
TZNAME:EEST
DTSTART:20260329T010000
END:DAYLIGHT
BEGIN:STANDARD
TZOFFSETFROM:+0300
TZOFFSETTO:+0200
TZNAME:EET
DTSTART:20261025T010000
END:STANDARD
END:VTIMEZONE
BEGIN:VEVENT
DTSTART;TZID=Europe/Helsinki:20250815T183000
DTEND;TZID=Europe/Helsinki:20250815T190000
DTSTAMP:20260419T161014
CREATED:20250805T143046Z
LAST-MODIFIED:20250805T143046Z
UID:4948-1755282600-1755284400@kath-luebben.de
SUMMARY:Anbetung in der Pfarrkirche
DESCRIPTION:eine halbe stunde in der stille vor dem Allerheiligsten…..
URL:https://kath-luebben.de/veranstaltungen/anbetung-in-der-pfarrkirche-46
LOCATION:St. Trinitas Lübben\, Am kleinen Hain 28\, Lübben (Spreewald)\, Brandenburg\, 15907\, Deutschland
CATEGORIES:Anbetung,Andacht,St. Trinitas Lübben
END:VEVENT
BEGIN:VEVENT
DTSTART;TZID=Europe/Helsinki:20250815T190000
DTEND;TZID=Europe/Helsinki:20250815T193000
DTSTAMP:20260419T161014
CREATED:20250805T143108Z
LAST-MODIFIED:20250805T143108Z
UID:4950-1755284400-1755286200@kath-luebben.de
SUMMARY:Hl. Messe  in der Pfarrkirche
DESCRIPTION:
URL:https://kath-luebben.de/veranstaltungen/hl-messe-in-der-pfarrkirche-257
LOCATION:St. Trinitas Lübben\, Am kleinen Hain 28\, Lübben (Spreewald)\, Brandenburg\, 15907\, Deutschland
CATEGORIES:Hl. Messe
END:VEVENT
END:VCALENDAR