BEGIN:VCALENDAR
VERSION:2.0
PRODID:-//Kath-Luebben.de - ECPv6.15.14//NONSGML v1.0//EN
CALSCALE:GREGORIAN
METHOD:PUBLISH
X-WR-CALNAME:Kath-Luebben.de
X-ORIGINAL-URL:https://kath-luebben.de
X-WR-CALDESC:Veranstaltungen für Kath-Luebben.de
REFRESH-INTERVAL;VALUE=DURATION:PT1H
X-Robots-Tag:noindex
X-PUBLISHED-TTL:PT1H
BEGIN:VTIMEZONE
TZID:Europe/Helsinki
BEGIN:DAYLIGHT
TZOFFSETFROM:+0200
TZOFFSETTO:+0300
TZNAME:EEST
DTSTART:20240331T010000
END:DAYLIGHT
BEGIN:STANDARD
TZOFFSETFROM:+0300
TZOFFSETTO:+0200
TZNAME:EET
DTSTART:20241027T010000
END:STANDARD
BEGIN:DAYLIGHT
TZOFFSETFROM:+0200
TZOFFSETTO:+0300
TZNAME:EEST
DTSTART:20250330T010000
END:DAYLIGHT
BEGIN:STANDARD
TZOFFSETFROM:+0300
TZOFFSETTO:+0200
TZNAME:EET
DTSTART:20251026T010000
END:STANDARD
BEGIN:DAYLIGHT
TZOFFSETFROM:+0200
TZOFFSETTO:+0300
TZNAME:EEST
DTSTART:20260329T010000
END:DAYLIGHT
BEGIN:STANDARD
TZOFFSETFROM:+0300
TZOFFSETTO:+0200
TZNAME:EET
DTSTART:20261025T010000
END:STANDARD
END:VTIMEZONE
BEGIN:VEVENT
DTSTART;TZID=Europe/Helsinki:20250706T083000
DTEND;TZID=Europe/Helsinki:20250706T093000
DTSTAMP:20260423T132153
CREATED:20250626T172240Z
LAST-MODIFIED:20250626T172240Z
UID:4854-1751790600-1751794200@kath-luebben.de
SUMMARY:Wortgotesfeier in Gröditsch
DESCRIPTION:
URL:https://kath-luebben.de/veranstaltungen/wortgotesfeier-in-groeditsch
LOCATION:St. Mater Maria Gröditsch\, Gröditscher Dorfstr. 10a\, Märkische Heide\, Brandenburg\, 15913\, Deutschland
CATEGORIES:Hl. Messe,St. Mater Maria Gröditsch
END:VEVENT
BEGIN:VEVENT
DTSTART;TZID=Europe/Helsinki:20250706T090000
DTEND;TZID=Europe/Helsinki:20250706T100000
DTSTAMP:20260423T132153
CREATED:20250705T194730Z
LAST-MODIFIED:20250705T194730Z
UID:4885-1751792400-1751796000@kath-luebben.de
SUMMARY:Hl. Messe  in der Pfarrkirche
DESCRIPTION:
URL:https://kath-luebben.de/veranstaltungen/hl-messe-in-der-pfarrkirche-252
LOCATION:St. Trinitas Lübben\, Am kleinen Hain 28\, Lübben (Spreewald)\, Brandenburg\, 15907\, Deutschland
CATEGORIES:Hl. Messe
END:VEVENT
BEGIN:VEVENT
DTSTART;TZID=Europe/Helsinki:20250706T103000
DTEND;TZID=Europe/Helsinki:20250706T113000
DTSTAMP:20260423T132153
CREATED:20250626T172347Z
LAST-MODIFIED:20250626T172347Z
UID:4858-1751797800-1751801400@kath-luebben.de
SUMMARY:Feier der Spendung der Firmung in Lübbenau
DESCRIPTION:Lübbenau\, Straße des Friedens 3a
URL:https://kath-luebben.de/veranstaltungen/feier-der-spendung-der-firmung-in-luebbenau
LOCATION:Brandenburg
END:VEVENT
END:VCALENDAR