BEGIN:VCALENDAR
VERSION:2.0
PRODID:-//Kath-Luebben.de - ECPv6.15.14//NONSGML v1.0//EN
CALSCALE:GREGORIAN
METHOD:PUBLISH
X-ORIGINAL-URL:https://kath-luebben.de
X-WR-CALDESC:Veranstaltungen für Kath-Luebben.de
REFRESH-INTERVAL;VALUE=DURATION:PT1H
X-Robots-Tag:noindex
X-PUBLISHED-TTL:PT1H
BEGIN:VTIMEZONE
TZID:Europe/Helsinki
BEGIN:DAYLIGHT
TZOFFSETFROM:+0200
TZOFFSETTO:+0300
TZNAME:EEST
DTSTART:20240331T010000
END:DAYLIGHT
BEGIN:STANDARD
TZOFFSETFROM:+0300
TZOFFSETTO:+0200
TZNAME:EET
DTSTART:20241027T010000
END:STANDARD
BEGIN:DAYLIGHT
TZOFFSETFROM:+0200
TZOFFSETTO:+0300
TZNAME:EEST
DTSTART:20250330T010000
END:DAYLIGHT
BEGIN:STANDARD
TZOFFSETFROM:+0300
TZOFFSETTO:+0200
TZNAME:EET
DTSTART:20251026T010000
END:STANDARD
BEGIN:DAYLIGHT
TZOFFSETFROM:+0200
TZOFFSETTO:+0300
TZNAME:EEST
DTSTART:20260329T010000
END:DAYLIGHT
BEGIN:STANDARD
TZOFFSETFROM:+0300
TZOFFSETTO:+0200
TZNAME:EET
DTSTART:20261025T010000
END:STANDARD
END:VTIMEZONE
BEGIN:VEVENT
DTSTART;TZID=Europe/Helsinki:20250330T083000
DTEND;TZID=Europe/Helsinki:20250330T093000
DTSTAMP:20260423T162509
CREATED:20250327T164003Z
LAST-MODIFIED:20250327T164003Z
UID:4566-1743323400-1743327000@kath-luebben.de
SUMMARY:Heilige Messe in Gröditsch
DESCRIPTION:
URL:https://kath-luebben.de/veranstaltungen/heilige-messe-in-groeditsch-2
LOCATION:St. Mater Maria Gröditsch\, Gröditscher Dorfstr. 10a\, Märkische Heide\, Brandenburg\, 15913\, Deutschland
CATEGORIES:Hl. Messe,St. Mater Maria Gröditsch
END:VEVENT
BEGIN:VEVENT
DTSTART;TZID=Europe/Helsinki:20250330T100000
DTEND;TZID=Europe/Helsinki:20250330T110000
DTSTAMP:20260423T162509
CREATED:20250327T164033Z
LAST-MODIFIED:20250327T164033Z
UID:4568-1743328800-1743332400@kath-luebben.de
SUMMARY:Hl. Messe  in der Pfarrkirche
DESCRIPTION:
URL:https://kath-luebben.de/veranstaltungen/hl-messe-in-der-pfarrkirche-221
LOCATION:St. Trinitas Lübben\, Am kleinen Hain 28\, Lübben (Spreewald)\, Brandenburg\, 15907\, Deutschland
CATEGORIES:Hl. Messe
END:VEVENT
BEGIN:VEVENT
DTSTART;TZID=Europe/Helsinki:20250330T110000
DTEND;TZID=Europe/Helsinki:20250330T120000
DTSTAMP:20260423T162509
CREATED:20250327T164831Z
LAST-MODIFIED:20250327T164831Z
UID:4591-1743332400-1743336000@kath-luebben.de
SUMMARY:Fastenessen
DESCRIPTION:Nach der 10.00 Uhr Messe
URL:https://kath-luebben.de/veranstaltungen/fastenessen-3
LOCATION:St. Trinitas Lübben (Pfarrsaal)\, Am kleinen Hain 28\, Lübben (Spreewald)\, Brandenburg\, 15907\, Deutschland
END:VEVENT
END:VCALENDAR