BEGIN:VCALENDAR
VERSION:2.0
PRODID:-//Kath-Luebben.de - ECPv6.15.14//NONSGML v1.0//EN
CALSCALE:GREGORIAN
METHOD:PUBLISH
X-ORIGINAL-URL:https://kath-luebben.de
X-WR-CALDESC:Veranstaltungen für Kath-Luebben.de
REFRESH-INTERVAL;VALUE=DURATION:PT1H
X-Robots-Tag:noindex
X-PUBLISHED-TTL:PT1H
BEGIN:VTIMEZONE
TZID:Europe/Helsinki
BEGIN:DAYLIGHT
TZOFFSETFROM:+0200
TZOFFSETTO:+0300
TZNAME:EEST
DTSTART:20240331T010000
END:DAYLIGHT
BEGIN:STANDARD
TZOFFSETFROM:+0300
TZOFFSETTO:+0200
TZNAME:EET
DTSTART:20241027T010000
END:STANDARD
BEGIN:DAYLIGHT
TZOFFSETFROM:+0200
TZOFFSETTO:+0300
TZNAME:EEST
DTSTART:20250330T010000
END:DAYLIGHT
BEGIN:STANDARD
TZOFFSETFROM:+0300
TZOFFSETTO:+0200
TZNAME:EET
DTSTART:20251026T010000
END:STANDARD
BEGIN:DAYLIGHT
TZOFFSETFROM:+0200
TZOFFSETTO:+0300
TZNAME:EEST
DTSTART:20260329T010000
END:DAYLIGHT
BEGIN:STANDARD
TZOFFSETFROM:+0300
TZOFFSETTO:+0200
TZNAME:EET
DTSTART:20261025T010000
END:STANDARD
END:VTIMEZONE
BEGIN:VEVENT
DTSTART;TZID=Europe/Helsinki:20250304T143000
DTEND;TZID=Europe/Helsinki:20250304T160000
DTSTAMP:20260420T001246
CREATED:20250228T171712Z
LAST-MODIFIED:20250228T171712Z
UID:4519-1741098600-1741104000@kath-luebben.de
SUMMARY:Religionsunterricht Klasse 4-5
DESCRIPTION:
URL:https://kath-luebben.de/veranstaltungen/religionsunterricht-klasse-4-5-5
LOCATION:St. Trinitas Lübben\, Am kleinen Hain 28\, Lübben (Spreewald)\, Brandenburg\, 15907\, Deutschland
CATEGORIES:Religionsunterricht,St. Trinitas Lübben
END:VEVENT
BEGIN:VEVENT
DTSTART;TZID=Europe/Helsinki:20250304T143000
DTEND;TZID=Europe/Helsinki:20250304T163000
DTSTAMP:20260420T001246
CREATED:20250228T171754Z
LAST-MODIFIED:20250228T171754Z
UID:4521-1741098600-1741105800@kath-luebben.de
SUMMARY:Spiel- und Schwatzrunde
DESCRIPTION:Der Caritas-Besuchskreis lädt am Dienstag um 14.30 Uhr zu einer Spiel- und Schwatzrunde in das Pfarrhaus ein.
URL:https://kath-luebben.de/veranstaltungen/spiel-und-schwatzrunde-6
LOCATION:St. Trinitas Lübben (Pfarrhaus)\, Am kleinen Hain 28\, Lübben (Spreewald)\, Brandenburg\, 15907\, Deutschland
END:VEVENT
END:VCALENDAR