BEGIN:VCALENDAR
VERSION:2.0
PRODID:-//Kath-Luebben.de - ECPv6.15.14//NONSGML v1.0//EN
CALSCALE:GREGORIAN
METHOD:PUBLISH
X-ORIGINAL-URL:https://kath-luebben.de
X-WR-CALDESC:Veranstaltungen für Kath-Luebben.de
REFRESH-INTERVAL;VALUE=DURATION:PT1H
X-Robots-Tag:noindex
X-PUBLISHED-TTL:PT1H
BEGIN:VTIMEZONE
TZID:Europe/Helsinki
BEGIN:DAYLIGHT
TZOFFSETFROM:+0200
TZOFFSETTO:+0300
TZNAME:EEST
DTSTART:20230326T010000
END:DAYLIGHT
BEGIN:STANDARD
TZOFFSETFROM:+0300
TZOFFSETTO:+0200
TZNAME:EET
DTSTART:20231029T010000
END:STANDARD
BEGIN:DAYLIGHT
TZOFFSETFROM:+0200
TZOFFSETTO:+0300
TZNAME:EEST
DTSTART:20240331T010000
END:DAYLIGHT
BEGIN:STANDARD
TZOFFSETFROM:+0300
TZOFFSETTO:+0200
TZNAME:EET
DTSTART:20241027T010000
END:STANDARD
BEGIN:DAYLIGHT
TZOFFSETFROM:+0200
TZOFFSETTO:+0300
TZNAME:EEST
DTSTART:20250330T010000
END:DAYLIGHT
BEGIN:STANDARD
TZOFFSETFROM:+0300
TZOFFSETTO:+0200
TZNAME:EET
DTSTART:20251026T010000
END:STANDARD
END:VTIMEZONE
BEGIN:VEVENT
DTSTART;TZID=Europe/Helsinki:20241224T160000
DTEND;TZID=Europe/Helsinki:20241224T170000
DTSTAMP:20260422T152256
CREATED:20241224T103834Z
LAST-MODIFIED:20241224T103834Z
UID:4325-1735056000-1735059600@kath-luebben.de
SUMMARY:Weihnachtsandacht mit Krippenspiel
DESCRIPTION:alle Kinder und Familien sind herzlich eingeladen
URL:https://kath-luebben.de/veranstaltungen/weihnachtsandacht-mit-krippenspiel-2
LOCATION:St. Trinitas Lübben\, Am kleinen Hain 28\, Lübben (Spreewald)\, Brandenburg\, 15907\, Deutschland
CATEGORIES:Krippenspiel
END:VEVENT
BEGIN:VEVENT
DTSTART;TZID=Europe/Helsinki:20241224T160000
DTEND;TZID=Europe/Helsinki:20241224T170000
DTSTAMP:20260422T152256
CREATED:20241224T103949Z
LAST-MODIFIED:20241224T103949Z
UID:4329-1735056000-1735059600@kath-luebben.de
SUMMARY:Christvesper
DESCRIPTION:
URL:https://kath-luebben.de/veranstaltungen/christvesper-2
LOCATION:St. Mater Maria Gröditsch\, Gröditscher Dorfstr. 10a\, Märkische Heide\, Brandenburg\, 15913\, Deutschland
CATEGORIES:Christvesper,St. Mater Maria Gröditsch
END:VEVENT
BEGIN:VEVENT
DTSTART;TZID=Europe/Helsinki:20241224T220000
DTEND;TZID=Europe/Helsinki:20241224T230000
DTSTAMP:20260422T152256
CREATED:20241224T103915Z
LAST-MODIFIED:20241224T103915Z
UID:4327-1735077600-1735081200@kath-luebben.de
SUMMARY:Christnacht
DESCRIPTION:
URL:https://kath-luebben.de/veranstaltungen/christnacht-3
LOCATION:St. Trinitas Lübben\, Am kleinen Hain 28\, Lübben (Spreewald)\, Brandenburg\, 15907\, Deutschland
CATEGORIES:Christnacht,St. Trinitas Lübben
END:VEVENT
BEGIN:VEVENT
DTSTART;TZID=Europe/Helsinki:20241224T220000
DTEND;TZID=Europe/Helsinki:20241224T230000
DTSTAMP:20260422T152256
CREATED:20251219T111329Z
LAST-MODIFIED:20251219T111329Z
UID:5458-1735077600-1735081200@kath-luebben.de
SUMMARY:Christnacht
DESCRIPTION:
URL:https://kath-luebben.de/veranstaltungen/christnacht-4
LOCATION:St. Trinitas Lübben\, Am kleinen Hain 28\, Lübben (Spreewald)\, Brandenburg\, 15907\, Deutschland
CATEGORIES:Christnacht,St. Trinitas Lübben
END:VEVENT
END:VCALENDAR