BEGIN:VCALENDAR
VERSION:2.0
PRODID:-//Kath-Luebben.de - ECPv6.15.14//NONSGML v1.0//EN
CALSCALE:GREGORIAN
METHOD:PUBLISH
X-WR-CALNAME:Kath-Luebben.de
X-ORIGINAL-URL:https://kath-luebben.de
X-WR-CALDESC:Veranstaltungen für Kath-Luebben.de
REFRESH-INTERVAL;VALUE=DURATION:PT1H
X-Robots-Tag:noindex
X-PUBLISHED-TTL:PT1H
BEGIN:VTIMEZONE
TZID:Europe/Helsinki
BEGIN:DAYLIGHT
TZOFFSETFROM:+0200
TZOFFSETTO:+0300
TZNAME:EEST
DTSTART:20230326T010000
END:DAYLIGHT
BEGIN:STANDARD
TZOFFSETFROM:+0300
TZOFFSETTO:+0200
TZNAME:EET
DTSTART:20231029T010000
END:STANDARD
BEGIN:DAYLIGHT
TZOFFSETFROM:+0200
TZOFFSETTO:+0300
TZNAME:EEST
DTSTART:20240331T010000
END:DAYLIGHT
BEGIN:STANDARD
TZOFFSETFROM:+0300
TZOFFSETTO:+0200
TZNAME:EET
DTSTART:20241027T010000
END:STANDARD
BEGIN:DAYLIGHT
TZOFFSETFROM:+0200
TZOFFSETTO:+0300
TZNAME:EEST
DTSTART:20250330T010000
END:DAYLIGHT
BEGIN:STANDARD
TZOFFSETFROM:+0300
TZOFFSETTO:+0200
TZNAME:EET
DTSTART:20251026T010000
END:STANDARD
END:VTIMEZONE
BEGIN:VEVENT
DTSTART;TZID=Europe/Helsinki:20241103T083000
DTEND;TZID=Europe/Helsinki:20241103T093000
DTSTAMP:20260422T184358
CREATED:20241011T175046Z
LAST-MODIFIED:20241011T175046Z
UID:4098-1730622600-1730626200@kath-luebben.de
SUMMARY:Hl. Messe in Gröditsch
DESCRIPTION:
URL:https://kath-luebben.de/veranstaltungen/hl-messe-in-groeditsch-27
LOCATION:St. Mater Maria Gröditsch\, Gröditscher Dorfstr. 10a\, Märkische Heide\, Brandenburg\, 15913\, Deutschland
CATEGORIES:Hl. Messe,St. Mater Maria Gröditsch
END:VEVENT
BEGIN:VEVENT
DTSTART;TZID=Europe/Helsinki:20241103T100000
DTEND;TZID=Europe/Helsinki:20241103T110000
DTSTAMP:20260422T184358
CREATED:20241011T175208Z
LAST-MODIFIED:20241011T175208Z
UID:4102-1730628000-1730631600@kath-luebben.de
SUMMARY:Hl. Messe mit Taufe von Tom Scheinemann in der Pfarrkirche
DESCRIPTION:
URL:https://kath-luebben.de/veranstaltungen/hl-messe-mit-taufe-von-tom-scheinemann-in-der-pfarrkirche
LOCATION:St. Trinitas Lübben\, Am kleinen Hain 28\, Lübben (Spreewald)\, Brandenburg\, 15907\, Deutschland
CATEGORIES:Hl. Messe
END:VEVENT
BEGIN:VEVENT
DTSTART;TZID=Europe/Helsinki:20241103T140000
DTEND;TZID=Europe/Helsinki:20241103T153000
DTSTAMP:20260422T184358
CREATED:20241011T175315Z
LAST-MODIFIED:20241011T175315Z
UID:4104-1730642400-1730647800@kath-luebben.de
SUMMARY:Gräbersegnung auf dem Hauptfriedhof in Lübben
DESCRIPTION:
URL:https://kath-luebben.de/veranstaltungen/graebersegnung-auf-dem-hauptfriedhof-in-luebben-2
LOCATION:Brandenburg
END:VEVENT
END:VCALENDAR